BEGIN:VCALENDAR
VERSION:2.0
PRODID:-//herz-eigen.de - ECPv6.15.19//NONSGML v1.0//EN
CALSCALE:GREGORIAN
METHOD:PUBLISH
X-ORIGINAL-URL:https://herz-eigen.de
X-WR-CALDESC:Veranstaltungen für herz-eigen.de
REFRESH-INTERVAL;VALUE=DURATION:PT1H
X-Robots-Tag:noindex
X-PUBLISHED-TTL:PT1H
BEGIN:VTIMEZONE
TZID:UTC
BEGIN:STANDARD
TZOFFSETFROM:+0000
TZOFFSETTO:+0000
TZNAME:UTC
DTSTART:20250101T000000
END:STANDARD
END:VTIMEZONE
BEGIN:VEVENT
DTSTART;TZID=UTC:20260207T150000
DTEND;TZID=UTC:20260207T160000
DTSTAMP:20260422T122116
CREATED:20241013T081200Z
LAST-MODIFIED:20260203T133517Z
UID:4492-1770476400-1770480000@herz-eigen.de
SUMMARY:DER BÄR\, DER NICHT DA WAR  -  fällt aus wegen Krankheit
DESCRIPTION:
URL:https://herz-eigen.de/event/der-baer-der-nicht-da-war-11/
LOCATION:Theater an der Halle\, Esslingerstr. 26\, Ostfildern\, 73760
END:VEVENT
BEGIN:VEVENT
DTSTART;TZID=UTC:20260222T160000
DTEND;TZID=UTC:20260222T170000
DTSTAMP:20260422T122116
CREATED:20260101T164303Z
LAST-MODIFIED:20260101T164303Z
UID:4860-1771776000-1771779600@herz-eigen.de
SUMMARY:WIE KATER ZORBAS DER KLEINEN MÖWE DAS FLIEGEN BEIBRACHTE
DESCRIPTION:
URL:https://herz-eigen.de/event/wie-kater-zorbas-der-kleinen-moewe-das-fliegen-beibrachte-8/
LOCATION:Theater Hammerschmiede\, Hammerwasen 1\, Rottenburg am Neckar\, 72108 
END:VEVENT
BEGIN:VEVENT
DTSTART;TZID=UTC:20260228T170000
DTEND;TZID=UTC:20260228T180000
DTSTAMP:20260422T122116
CREATED:20250827T154219Z
LAST-MODIFIED:20250827T154219Z
UID:4719-1772298000-1772301600@herz-eigen.de
SUMMARY:DER BÄR\, DER NICHT DA WAR
DESCRIPTION:
URL:https://herz-eigen.de/event/der-baer-der-nicht-da-war-48/
LOCATION:Dorfgemeinschaft\, Tennental\, Ita-Wegman-Straße 7\, 75392 Deckenpfronn
END:VEVENT
END:VCALENDAR