BEGIN:VCALENDAR
VERSION:2.0
PRODID:-//herz-eigen.de - ECPv6.15.19//NONSGML v1.0//EN
CALSCALE:GREGORIAN
METHOD:PUBLISH
X-ORIGINAL-URL:https://herz-eigen.de
X-WR-CALDESC:Veranstaltungen für herz-eigen.de
REFRESH-INTERVAL;VALUE=DURATION:PT1H
X-Robots-Tag:noindex
X-PUBLISHED-TTL:PT1H
BEGIN:VTIMEZONE
TZID:UTC
BEGIN:STANDARD
TZOFFSETFROM:+0000
TZOFFSETTO:+0000
TZNAME:UTC
DTSTART:20250101T000000
END:STANDARD
END:VTIMEZONE
BEGIN:VEVENT
DTSTART;TZID=UTC:20260119T103000
DTEND;TZID=UTC:20260119T113000
DTSTAMP:20260422T160341
CREATED:20250827T153745Z
LAST-MODIFIED:20250827T153745Z
UID:4714-1768818600-1768822200@herz-eigen.de
SUMMARY:DER BÄR\, DER NICHT DA WAR
DESCRIPTION:
URL:https://herz-eigen.de/event/der-baer-der-nicht-da-war-47/
LOCATION:Kita Albert Schweitzer\, Karlsruher St. 29 a\, Graben-Neudorf\, 76676
END:VEVENT
BEGIN:VEVENT
DTSTART;TZID=UTC:20260120T150000
DTEND;TZID=UTC:20260120T160000
DTSTAMP:20260422T160341
CREATED:20250827T154002Z
LAST-MODIFIED:20250827T154002Z
UID:4717-1768921200-1768924800@herz-eigen.de
SUMMARY:DAS KLEINE LUMPENKASPERLE
DESCRIPTION:
URL:https://herz-eigen.de/event/das-kleine-lumpenkasperle-174/
LOCATION:Stadtbibliothek Waghäusel\, Gymnasiumstr. 1\, WAGHÄUSEL\, 68753
END:VEVENT
BEGIN:VEVENT
DTSTART;TZID=UTC:20260121T160000
DTEND;TZID=UTC:20260121T170000
DTSTAMP:20260422T160341
CREATED:20250801T083135Z
LAST-MODIFIED:20250801T083135Z
UID:4701-1769011200-1769014800@herz-eigen.de
SUMMARY:DER BÄR\, DER NICHT DA WAR
DESCRIPTION:
URL:https://herz-eigen.de/event/der-baer-der-nicht-da-war-44/
LOCATION:Stadtbücherei Östringen\, Mozartstr. 1 d\, ÖSTRINGEN\, 76684
END:VEVENT
BEGIN:VEVENT
DTSTART;TZID=UTC:20260122T160000
DTEND;TZID=UTC:20260122T170000
DTSTAMP:20260422T160341
CREATED:20250801T083328Z
LAST-MODIFIED:20250801T083328Z
UID:4703-1769097600-1769101200@herz-eigen.de
SUMMARY:DER BÄR\, DER NICHT DA WAR
DESCRIPTION:
URL:https://herz-eigen.de/event/der-baer-der-nicht-da-war-45/
LOCATION:Gemeindezentrum\, Schwetzingerstr. 29\, Plankstadt\, 68723
END:VEVENT
BEGIN:VEVENT
DTSTART;TZID=UTC:20260123T150000
DTEND;TZID=UTC:20260123T160000
DTSTAMP:20260422T160341
CREATED:20250827T153351Z
LAST-MODIFIED:20250827T153351Z
UID:4712-1769180400-1769184000@herz-eigen.de
SUMMARY:DER BÄR\, DER NICHT DA WAR
DESCRIPTION:
URL:https://herz-eigen.de/event/der-baer-der-nicht-da-war-46/
LOCATION:Gemeindebücherei FORST\, Langestr. 4\, FORST\, 76694
END:VEVENT
BEGIN:VEVENT
DTSTART;TZID=UTC:20260124T150000
DTEND;TZID=UTC:20260124T160000
DTSTAMP:20260422T160341
CREATED:20250919T182947Z
LAST-MODIFIED:20250919T182947Z
UID:4743-1769266800-1769270400@herz-eigen.de
SUMMARY:DAS TRAUMFRESSERCHEN
DESCRIPTION:
URL:https://herz-eigen.de/event/das-traumfresserchen-161/
LOCATION:Stadthalle Groß-Umstadt\, Am Darmstädter Schloß 6\, Groß-Umstadt\, 64823
END:VEVENT
BEGIN:VEVENT
DTSTART;TZID=UTC:20260125T150000
DTEND;TZID=UTC:20260125T160000
DTSTAMP:20260422T160341
CREATED:20250509T135613Z
LAST-MODIFIED:20250509T135613Z
UID:4642-1769353200-1769356800@herz-eigen.de
SUMMARY:DAS KLEINE LUMPENKLASPERLE
DESCRIPTION:
URL:https://herz-eigen.de/event/das-kleine-lumpenklasperle/
LOCATION:Mauerwerk\, Hindenburgstr. 22\, Herrenberg\, 71083
END:VEVENT
BEGIN:VEVENT
DTSTART;TZID=UTC:20260131T150000
DTEND;TZID=UTC:20260131T160000
DTSTAMP:20260422T160341
CREATED:20251217T153906Z
LAST-MODIFIED:20251217T153906Z
UID:4824-1769871600-1769875200@herz-eigen.de
SUMMARY:DER BÄR\, DER NICHT DA WAR
DESCRIPTION:
URL:https://herz-eigen.de/event/der-baer-der-nicht-da-war-53/
LOCATION:Stadtbücherei Holzgerlingen\, Böblingerstr. 28\, Holzgerlingen\, 71088
END:VEVENT
END:VCALENDAR