BEGIN:VCALENDAR
VERSION:2.0
PRODID:-//herz-eigen.de - ECPv6.15.19//NONSGML v1.0//EN
CALSCALE:GREGORIAN
METHOD:PUBLISH
X-ORIGINAL-URL:https://herz-eigen.de
X-WR-CALDESC:Veranstaltungen für herz-eigen.de
REFRESH-INTERVAL;VALUE=DURATION:PT1H
X-Robots-Tag:noindex
X-PUBLISHED-TTL:PT1H
BEGIN:VTIMEZONE
TZID:UTC
BEGIN:STANDARD
TZOFFSETFROM:+0000
TZOFFSETTO:+0000
TZNAME:UTC
DTSTART:20230101T000000
END:STANDARD
END:VTIMEZONE
BEGIN:VEVENT
DTSTART;TZID=UTC:20240403T150000
DTEND;TZID=UTC:20240403T160000
DTSTAMP:20260420T213453
CREATED:20230917T160515Z
LAST-MODIFIED:20230917T160515Z
UID:3478-1712156400-1712160000@herz-eigen.de
SUMMARY:JIM KNOPF UND LUKAS\, DER LOKOMOTIVFÜHRER
DESCRIPTION:
URL:https://herz-eigen.de/event/jim-knopf-und-lukas-der-lokomotivfuehrer-172/
LOCATION:Stadtbücherei Pfullendorf\, Pfarrhofgasse 5\, Pfullendorf\, 88630
END:VEVENT
BEGIN:VEVENT
DTSTART;TZID=UTC:20240414T150000
DTEND;TZID=UTC:20240414T160000
DTSTAMP:20260420T213453
CREATED:20230325T094949Z
LAST-MODIFIED:20230325T094949Z
UID:3088-1713106800-1713110400@herz-eigen.de
SUMMARY:DAS TRAUMFRESSERCHEN
DESCRIPTION:
URL:https://herz-eigen.de/event/das-traumfresserchen-107/
LOCATION:ODEON\, Altes E-Werk\,  Mörikestraße 18\, 73033 Göppingen
END:VEVENT
BEGIN:VEVENT
DTSTART;TZID=UTC:20240416T103000
DTEND;TZID=UTC:20240416T112000
DTSTAMP:20260420T213453
CREATED:20231104T161919Z
LAST-MODIFIED:20231104T163104Z
UID:3605-1713263400-1713266400@herz-eigen.de
SUMMARY:WICHTELWITZ UND RIESENMUT (geschlossene Veranstaltung)
DESCRIPTION:
URL:https://herz-eigen.de/event/wichtelwitz-und-riesenmut-geschlossene-veranstaltung-8/
LOCATION:Freie Waldorfschule Tübingen\, Rotdornweg 30\, Tübingen\, 72076
END:VEVENT
BEGIN:VEVENT
DTSTART;TZID=UTC:20240417T143000
DTEND;TZID=UTC:20240417T154000
DTSTAMP:20260420T213453
CREATED:20221201T125500Z
LAST-MODIFIED:20221201T125500Z
UID:3005-1713364200-1713368400@herz-eigen.de
SUMMARY:JIM KNOPF UND LUKAS\, DER LOKOMOTIVFÜHRER
DESCRIPTION:
URL:https://herz-eigen.de/event/jim-knopf-und-lukas-der-lokomotivfuehrer-164/
LOCATION:Stadthalle Museum\, Zollernstr. 2\, Hechingen\, 72379
END:VEVENT
BEGIN:VEVENT
DTSTART;TZID=UTC:20240422T100000
DTEND;TZID=UTC:20240422T105000
DTSTAMP:20260420T213453
CREATED:20231104T161403Z
LAST-MODIFIED:20231104T161459Z
UID:3601-1713780000-1713783000@herz-eigen.de
SUMMARY:WICHTELWITZ UND RIESENMUT
DESCRIPTION:
URL:https://herz-eigen.de/event/wichtelwitz-und-riesenmut-44/
LOCATION:Stadtbücherei Neustadt a.d.Weinstr.\, Marstall 1\, Neustadt a.d.Weinstr.\, 67433
END:VEVENT
BEGIN:VEVENT
DTSTART;TZID=UTC:20240423T160000
DTEND;TZID=UTC:20240423T170000
DTSTAMP:20260420T213453
CREATED:20230917T071258Z
LAST-MODIFIED:20230917T071258Z
UID:3472-1713888000-1713891600@herz-eigen.de
SUMMARY:WICHTELWITZ UND RIESENMUT
DESCRIPTION:
URL:https://herz-eigen.de/event/wichtelwitz-und-riesenmut-43/
LOCATION:Friedrich-Ebert-Schulzentrum\, Büchertstr. 36\, Sandhausen\, 69207
END:VEVENT
BEGIN:VEVENT
DTSTART;TZID=UTC:20240424T150000
DTEND;TZID=UTC:20240424T160000
DTSTAMP:20260420T213453
CREATED:20231126T203158Z
LAST-MODIFIED:20231126T203158Z
UID:3796-1713970800-1713974400@herz-eigen.de
SUMMARY:DAS KLEINE LUMPENKASPERLE
DESCRIPTION:
URL:https://herz-eigen.de/event/das-kleine-lumpenkasperle-158/
LOCATION:Alter Posthof\, Kutschersaal\, Sarcellerstr. 1\, Hattersheim\, 65795
END:VEVENT
BEGIN:VEVENT
DTSTART;TZID=UTC:20240425T093000
DTEND;TZID=UTC:20240425T103000
DTSTAMP:20260420T213453
CREATED:20240224T160233Z
LAST-MODIFIED:20240224T160233Z
UID:3993-1714037400-1714041000@herz-eigen.de
SUMMARY:DAS KLEINE LUMPENKASPERLE (geschlossene Veranstaltung)
DESCRIPTION:
URL:https://herz-eigen.de/event/das-kleine-lumpenkasperle-geschlossene-veranstaltung-19/
END:VEVENT
BEGIN:VEVENT
DTSTART;TZID=UTC:20240428T150000
DTEND;TZID=UTC:20240428T160000
DTSTAMP:20260420T213453
CREATED:20230212T085620Z
LAST-MODIFIED:20230212T085620Z
UID:3040-1714316400-1714320000@herz-eigen.de
SUMMARY:DAS TRAUMFRESSERCHEN
DESCRIPTION:
URL:https://herz-eigen.de/event/das-traumfresserchen-104/
LOCATION:Adolf-Reichwein-Halle\, Bei den Junkergärten 2\, Rosbach v.d.Höhe\, 61191
END:VEVENT
BEGIN:VEVENT
DTSTART;TZID=UTC:20240430T150000
DTEND;TZID=UTC:20240430T160000
DTSTAMP:20260420T213453
CREATED:20240121T125243Z
LAST-MODIFIED:20240121T125243Z
UID:3968-1714489200-1714492800@herz-eigen.de
SUMMARY:DAS KLEINE LUMPENKASPERLE
DESCRIPTION:
URL:https://herz-eigen.de/event/das-kleine-lumpenkasperle-137/
LOCATION:Stadtbücherei Bad Mergentheim\, Hans-Heinrich-Ehler-Platz 35\, Bad Mergentheim\, 97980
END:VEVENT
END:VCALENDAR