BEGIN:VCALENDAR
VERSION:2.0
PRODID:-//herz-eigen.de - ECPv6.15.19//NONSGML v1.0//EN
CALSCALE:GREGORIAN
METHOD:PUBLISH
X-WR-CALNAME:herz-eigen.de
X-ORIGINAL-URL:https://herz-eigen.de
X-WR-CALDESC:Veranstaltungen für herz-eigen.de
REFRESH-INTERVAL;VALUE=DURATION:PT1H
X-Robots-Tag:noindex
X-PUBLISHED-TTL:PT1H
BEGIN:VTIMEZONE
TZID:UTC
BEGIN:STANDARD
TZOFFSETFROM:+0000
TZOFFSETTO:+0000
TZNAME:UTC
DTSTART:20230101T000000
END:STANDARD
END:VTIMEZONE
BEGIN:VEVENT
DTSTART;TZID=UTC:20240306T150000
DTEND;TZID=UTC:20240306T155000
DTSTAMP:20260421T005807
CREATED:20231104T163253Z
LAST-MODIFIED:20231104T163253Z
UID:3607-1709737200-1709740200@herz-eigen.de
SUMMARY:WICHTELWITZ UND RIESENMUT
DESCRIPTION:
URL:https://herz-eigen.de/event/wichtelwitz-und-riesenmut-45/
LOCATION:SUBIACO in der MAJOLIKA\, Schiltachstr. 28\, Schramberg\, 78713
END:VEVENT
BEGIN:VEVENT
DTSTART;TZID=UTC:20240310T150000
DTEND;TZID=UTC:20240310T160000
DTSTAMP:20260421T005807
CREATED:20230726T164445Z
LAST-MODIFIED:20230726T164445Z
UID:3430-1710082800-1710086400@herz-eigen.de
SUMMARY:DAS TRAUMFRESSERCHEN
DESCRIPTION:
URL:https://herz-eigen.de/event/das-traumfresserchen-118/
LOCATION:Kulturzentrum POSTSAAL\, Marktmülleranger 1\, Trostberg\, 83308
END:VEVENT
BEGIN:VEVENT
DTSTART;TZID=UTC:20240312T080000
DTEND;TZID=UTC:20240312T090000
DTSTAMP:20260421T005807
CREATED:20221209T105810Z
LAST-MODIFIED:20221209T105810Z
UID:3018-1710230400-1710234000@herz-eigen.de
SUMMARY:DAS TRAUMFRESSERCHEN
DESCRIPTION:
URL:https://herz-eigen.de/event/das-traumfresserchen-99/
LOCATION:Doppelsporthalle Reisbach\, Frontenhauserstr. 20\, Reisbach\, 94419
END:VEVENT
BEGIN:VEVENT
DTSTART;TZID=UTC:20240312T100000
DTEND;TZID=UTC:20240312T110000
DTSTAMP:20260421T005807
CREATED:20221209T105946Z
LAST-MODIFIED:20221209T105946Z
UID:3020-1710237600-1710241200@herz-eigen.de
SUMMARY:DAS TRAUMFRESSERCHEN
DESCRIPTION:
URL:https://herz-eigen.de/event/das-traumfresserchen-100/
LOCATION:Doppelsporthalle Reisbach\, Frontenhauserstr. 20\, Reisbach\, 94419
END:VEVENT
BEGIN:VEVENT
DTSTART;TZID=UTC:20240315T160000
DTEND;TZID=UTC:20240315T170000
DTSTAMP:20260421T005807
CREATED:20230924T084946Z
LAST-MODIFIED:20230924T085008Z
UID:3529-1710518400-1710522000@herz-eigen.de
SUMMARY:DAS KLEINE LUMPENKASPERLE
DESCRIPTION:
URL:https://herz-eigen.de/event/das-kleine-lumpenkasperle-149/
LOCATION:Gemeindebibiliothek Grünwald\, Südliche Münchnerstr. 7\, Grünwald\, 82031
END:VEVENT
BEGIN:VEVENT
DTSTART;TZID=UTC:20240317T160000
DTEND;TZID=UTC:20240317T170000
DTSTAMP:20260421T005807
CREATED:20230726T164739Z
LAST-MODIFIED:20230726T164739Z
UID:3433-1710691200-1710694800@herz-eigen.de
SUMMARY:DER BÄR\, DER NICHT DA WAR
DESCRIPTION:
URL:https://herz-eigen.de/event/der-baer-der-nicht-da-war-15/
LOCATION:Lebensgemeinschaft Höhenberg\, Höhenberg 8\, Velden\, 84149
END:VEVENT
BEGIN:VEVENT
DTSTART;TZID=UTC:20240323T150000
DTEND;TZID=UTC:20240323T160000
DTSTAMP:20260421T005807
CREATED:20231129T072006Z
LAST-MODIFIED:20231129T072006Z
UID:3807-1711206000-1711209600@herz-eigen.de
SUMMARY:DER BÄR\, DER NICHT DA WAR
DESCRIPTION:
URL:https://herz-eigen.de/event/der-baer-der-nicht-da-war-21/
LOCATION:Bürgersaal Jettingen\, Hauptstr. 11\, Jettingen\, 71131
END:VEVENT
BEGIN:VEVENT
DTSTART;TZID=UTC:20240324T160000
DTEND;TZID=UTC:20240324T170000
DTSTAMP:20260421T005807
CREATED:20231002T131809Z
LAST-MODIFIED:20231002T131809Z
UID:3543-1711296000-1711299600@herz-eigen.de
SUMMARY:DER BÄR\, DER NICHT DA WAR
DESCRIPTION:
URL:https://herz-eigen.de/event/der-baer-der-nicht-da-war-18/
LOCATION:Fichtehaus\, Tübingen\, Herrenberger Str. 40\, Tübingen\, 72070
ORGANIZER;CN="Theater HERZeigen":MAILTO:post@herz-eigen.de
END:VEVENT
END:VCALENDAR