BEGIN:VCALENDAR
VERSION:2.0
PRODID:-//herz-eigen.de - ECPv6.15.19//NONSGML v1.0//EN
CALSCALE:GREGORIAN
METHOD:PUBLISH
X-ORIGINAL-URL:https://herz-eigen.de
X-WR-CALDESC:Veranstaltungen für herz-eigen.de
REFRESH-INTERVAL;VALUE=DURATION:PT1H
X-Robots-Tag:noindex
X-PUBLISHED-TTL:PT1H
BEGIN:VTIMEZONE
TZID:UTC
BEGIN:STANDARD
TZOFFSETFROM:+0000
TZOFFSETTO:+0000
TZNAME:UTC
DTSTART:20230101T000000
END:STANDARD
END:VTIMEZONE
BEGIN:VEVENT
DTSTART;TZID=UTC:20240201T100000
DTEND;TZID=UTC:20240201T111000
DTSTAMP:20260421T043901
CREATED:20230610T133255Z
LAST-MODIFIED:20230610T133406Z
UID:3292-1706781600-1706785800@herz-eigen.de
SUMMARY:JIM KNOPF UND LUKAS\, DER LOKOMOTIVFÜHRER
DESCRIPTION:
URL:https://herz-eigen.de/event/jim-knopf-und-lukas-der-lokomotivfuehrer-169/
LOCATION:Alte Turnhalle\, Hauptstr. 52\, Niederstetten\, 97996
END:VEVENT
BEGIN:VEVENT
DTSTART;TZID=UTC:20240202T150000
DTEND;TZID=UTC:20240202T160000
DTSTAMP:20260421T043901
CREATED:20230516T080835Z
LAST-MODIFIED:20230516T080835Z
UID:3253-1706886000-1706889600@herz-eigen.de
SUMMARY:JIM KNOPF UND LUKAS\, DER LOKOMOTIVFÜHRER
DESCRIPTION:
URL:https://herz-eigen.de/event/jim-knopf-und-lukas-der-lokomotivfuehrer-168/
LOCATION:Kulturhaussaal Wertheim\, Bahnhofstr. 1\, Wertheim\, 97877
END:VEVENT
BEGIN:VEVENT
DTSTART;TZID=UTC:20240203T150000
DTEND;TZID=UTC:20240203T160000
DTSTAMP:20260421T043901
CREATED:20230529T150605Z
LAST-MODIFIED:20230529T150852Z
UID:3287-1706972400-1706976000@herz-eigen.de
SUMMARY:DAS KLEINE LUMPENKASPERLE
DESCRIPTION:
URL:https://herz-eigen.de/event/das-kleine-lumpenkasperle-134/
LOCATION:Stadtbücherei Weikersheim\, Laudenbacherstr. 3\, Weikersheim\, 97990
END:VEVENT
BEGIN:VEVENT
DTSTART;TZID=UTC:20240204T160000
DTEND;TZID=UTC:20240204T170000
DTSTAMP:20260421T043901
CREATED:20231004T160229Z
LAST-MODIFIED:20231004T160229Z
UID:3547-1707062400-1707066000@herz-eigen.de
SUMMARY:DAS TRAUMFRESSERCHEN
DESCRIPTION:
URL:https://herz-eigen.de/event/das-traumfresserchen-127/
LOCATION:Theater Hammerschmiede\, Hammerwasen 1\, Rottenburg am Neckar\, 72108 
END:VEVENT
END:VCALENDAR