BEGIN:VCALENDAR
VERSION:2.0
PRODID:-//herz-eigen.de - ECPv6.15.19//NONSGML v1.0//EN
CALSCALE:GREGORIAN
METHOD:PUBLISH
X-WR-CALNAME:herz-eigen.de
X-ORIGINAL-URL:https://herz-eigen.de
X-WR-CALDESC:Veranstaltungen für herz-eigen.de
REFRESH-INTERVAL;VALUE=DURATION:PT1H
X-Robots-Tag:noindex
X-PUBLISHED-TTL:PT1H
BEGIN:VTIMEZONE
TZID:UTC
BEGIN:STANDARD
TZOFFSETFROM:+0000
TZOFFSETTO:+0000
TZNAME:UTC
DTSTART:20220101T000000
END:STANDARD
END:VTIMEZONE
BEGIN:VEVENT
DTSTART;TZID=UTC:20231011T103000
DTEND;TZID=UTC:20231011T112000
DTSTAMP:20260423T214045
CREATED:20230528T074559Z
LAST-MODIFIED:20230528T074559Z
UID:3273-1697020200-1697023200@herz-eigen.de
SUMMARY:DER BÄR\, DER NICHT DA WAR
DESCRIPTION:
URL:https://herz-eigen.de/event/der-baer-der-nicht-da-war-12/
LOCATION:KULTURKABINETT\, Kissingerstrasse 66a\, Stuttgart Bad Cannstatt  \, 70372\, Deutschland
END:VEVENT
BEGIN:VEVENT
DTSTART;TZID=UTC:20231011T163000
DTEND;TZID=UTC:20231011T172000
DTSTAMP:20260423T214045
CREATED:20230528T074742Z
LAST-MODIFIED:20230528T074742Z
UID:3275-1697041800-1697044800@herz-eigen.de
SUMMARY:DER BÄR\, DER NICHT DA WAR
DESCRIPTION:
URL:https://herz-eigen.de/event/der-baer-der-nicht-da-war-13/
LOCATION:KULTURKABINETT\, Kissingerstrasse 66a\, Stuttgart Bad Cannstatt  \, 70372\, Deutschland
END:VEVENT
BEGIN:VEVENT
DTSTART;TZID=UTC:20231013T100000
DTEND;TZID=UTC:20231013T110000
DTSTAMP:20260423T214045
CREATED:20221126T165403Z
LAST-MODIFIED:20221126T165403Z
UID:3000-1697191200-1697194800@herz-eigen.de
SUMMARY:DAS TRAUMFRESSERCHEN
DESCRIPTION:
URL:https://herz-eigen.de/event/das-traumfresserchen-95/
LOCATION:Halle 12 Laufenburg\, Dr.Rudolf-Eberle-Str. 12\, Laufenburg\, 79725
END:VEVENT
BEGIN:VEVENT
DTSTART;TZID=UTC:20231013T143000
DTEND;TZID=UTC:20231013T153000
DTSTAMP:20260423T214045
CREATED:20221126T165533Z
LAST-MODIFIED:20221126T165533Z
UID:3002-1697207400-1697211000@herz-eigen.de
SUMMARY:DAS TRAUMFRESSERCHEN
DESCRIPTION:
URL:https://herz-eigen.de/event/das-traumfresserchen-96/
LOCATION:Halle 12 Laufenburg\, Dr.Rudolf-Eberle-Str. 12\, Laufenburg\, 79725
END:VEVENT
BEGIN:VEVENT
DTSTART;TZID=UTC:20231015T150000
DTEND;TZID=UTC:20231015T160000
DTSTAMP:20260423T214045
CREATED:20230925T064654Z
LAST-MODIFIED:20230925T070938Z
UID:3535-1697382000-1697385600@herz-eigen.de
SUMMARY:DER BÄR\, DER NICHT DA WAR
DESCRIPTION:
URL:https://herz-eigen.de/event/der-baer-der-nicht-da-war-16/
LOCATION:Waldheim Wangen\, Rot 1\, Stuttgart\, 70327\, Deutschland
ORGANIZER;CN="Theater HERZeigen":MAILTO:post@herz-eigen.de
END:VEVENT
BEGIN:VEVENT
DTSTART;TZID=UTC:20231016T150000
DTEND;TZID=UTC:20231016T160000
DTSTAMP:20260423T214045
CREATED:20230925T071414Z
LAST-MODIFIED:20230925T071459Z
UID:3537-1697468400-1697472000@herz-eigen.de
SUMMARY:DER BÄR\, DER NICHT DA WAR ( geschlossene veranstaltung)
DESCRIPTION:
URL:https://herz-eigen.de/event/der-baer-der-nicht-da-war-17/
LOCATION:Villa Zuckerberg\, Kolpingstr. 62\, Stuttgart\, 70378
END:VEVENT
BEGIN:VEVENT
DTSTART;TZID=UTC:20231018T100000
DTEND;TZID=UTC:20231018T110000
DTSTAMP:20260423T214045
CREATED:20230818T164826Z
LAST-MODIFIED:20230818T164826Z
UID:3450-1697623200-1697626800@herz-eigen.de
SUMMARY:DAS TRAUMFRESSERCHEN
DESCRIPTION:
URL:https://herz-eigen.de/event/das-traumfresserchen-120/
LOCATION:Stadtbücherei TETTNANG\, Schloßstr. 9 - 11\, TETTNANG\, 88069
END:VEVENT
BEGIN:VEVENT
DTSTART;TZID=UTC:20231018T150000
DTEND;TZID=UTC:20231018T160000
DTSTAMP:20260423T214045
CREATED:20230818T165426Z
LAST-MODIFIED:20230818T165426Z
UID:3456-1697641200-1697644800@herz-eigen.de
SUMMARY:DAS TRAUMFRESSERCHEN
DESCRIPTION:
URL:https://herz-eigen.de/event/das-traumfresserchen-121/
LOCATION:Stadtbücherei TETTNANG\, Schloßstr. 9 - 11\, TETTNANG\, 88069
END:VEVENT
BEGIN:VEVENT
DTSTART;TZID=UTC:20231019T104500
DTEND;TZID=UTC:20231019T113500
DTSTAMP:20260423T214045
CREATED:20230518T142717Z
LAST-MODIFIED:20230518T142717Z
UID:3263-1697712300-1697715300@herz-eigen.de
SUMMARY:DER BÄR\, DER NICHT DA WAR
DESCRIPTION:
URL:https://herz-eigen.de/event/der-baer-der-nicht-da-war-9/
LOCATION:Stadtbücherei Waldenburg\, Hauptstr. 109\, Waldenburg\, 74638
END:VEVENT
BEGIN:VEVENT
DTSTART;TZID=UTC:20231024T100000
DTEND;TZID=UTC:20231024T110000
DTSTAMP:20260423T214045
CREATED:20220409T124148Z
LAST-MODIFIED:20220621T154211Z
UID:2786-1698141600-1698145200@herz-eigen.de
SUMMARY:JIM KNOPF UND LUKAS\, DER LOKOMOTIVFÜHRER
DESCRIPTION:
URL:https://herz-eigen.de/event/jim-knopf-und-lukas-der-lokomotivfuehrer-147/
LOCATION:Bücherei Kaufering\, Albert-Schweitzer-Str. 4 a\, Kaufering\, 86916
END:VEVENT
BEGIN:VEVENT
DTSTART;TZID=UTC:20231024T114500
DTEND;TZID=UTC:20231024T124500
DTSTAMP:20260423T214045
CREATED:20220409T124322Z
LAST-MODIFIED:20220621T154250Z
UID:2788-1698147900-1698151500@herz-eigen.de
SUMMARY:JIM KNOPF UND LUKAS\, DER LOKOMOTIVFÜHRER
DESCRIPTION:
URL:https://herz-eigen.de/event/jim-knopf-und-lukas-der-lokomotivfuehrer-148/
LOCATION:Bücherei Kaufering\, Albert-Schweitzer-Str. 4 a\, Kaufering\, 86916
END:VEVENT
BEGIN:VEVENT
DTSTART;TZID=UTC:20231025T150000
DTEND;TZID=UTC:20231025T160000
DTSTAMP:20260423T214045
CREATED:20220903T131633Z
LAST-MODIFIED:20220903T131633Z
UID:2889-1698246000-1698249600@herz-eigen.de
SUMMARY:JIM KNOPF UND LUKAS\, DER LOKOMOTIVFÜHRER
DESCRIPTION:
URL:https://herz-eigen.de/event/jim-knopf-und-lukas-der-lokomotivfuehrer-154/
LOCATION:Rathaus Kolbermoor\, Gr. Saal\, Rathausplatz 1\, Kolbermoor\, 83059
END:VEVENT
BEGIN:VEVENT
DTSTART;TZID=UTC:20231026T160000
DTEND;TZID=UTC:20231026T170000
DTSTAMP:20260423T214045
CREATED:20220328T061654Z
LAST-MODIFIED:20220328T061654Z
UID:2766-1698336000-1698339600@herz-eigen.de
SUMMARY:DAS TRAUMFRESSERCHEN
DESCRIPTION:
URL:https://herz-eigen.de/event/das-traumfresserchen-81/
LOCATION:Haus für Weiterbildung\,\, Rathausplatz 8\, Neubiberg\, 85579
END:VEVENT
BEGIN:VEVENT
DTSTART;TZID=UTC:20231027T173000
DTEND;TZID=UTC:20231027T183000
DTSTAMP:20260423T214045
CREATED:20220328T061400Z
LAST-MODIFIED:20220328T061400Z
UID:2764-1698427800-1698431400@herz-eigen.de
SUMMARY:JIM KNOPF UND LUKAS\, DER LOKOMOTIVFÜHRER
DESCRIPTION:
URL:https://herz-eigen.de/event/jim-knopf-und-lukas-der-lokomotivfuehrer-144/
LOCATION:Eisenbahnmuseum Freilassing\, Westendstr. 5\, Freilassing\, 83395
END:VEVENT
BEGIN:VEVENT
DTSTART;TZID=UTC:20231029T160000
DTEND;TZID=UTC:20231029T165000
DTSTAMP:20260423T214045
CREATED:20230617T122717Z
LAST-MODIFIED:20230617T122717Z
UID:3360-1698595200-1698598200@herz-eigen.de
SUMMARY:DER BÄR\, DER NICHT DA WAR
DESCRIPTION:
URL:https://herz-eigen.de/event/der-baer-der-nicht-da-war-14/
LOCATION:Theater Hammerschmiede\, Hammerwasen 1\, Rottenburg am Neckar\, 72108 
END:VEVENT
END:VCALENDAR