BEGIN:VCALENDAR
VERSION:2.0
PRODID:-//herz-eigen.de - ECPv6.15.19//NONSGML v1.0//EN
CALSCALE:GREGORIAN
METHOD:PUBLISH
X-ORIGINAL-URL:https://herz-eigen.de
X-WR-CALDESC:Veranstaltungen für herz-eigen.de
REFRESH-INTERVAL;VALUE=DURATION:PT1H
X-Robots-Tag:noindex
X-PUBLISHED-TTL:PT1H
BEGIN:VTIMEZONE
TZID:UTC
BEGIN:STANDARD
TZOFFSETFROM:+0000
TZOFFSETTO:+0000
TZNAME:UTC
DTSTART:20220101T000000
END:STANDARD
END:VTIMEZONE
BEGIN:VEVENT
DTSTART;TZID=UTC:20230614T100000
DTEND;TZID=UTC:20230614T104500
DTSTAMP:20260424T051744
CREATED:20221008T151434Z
LAST-MODIFIED:20221008T151434Z
UID:2930-1686736800-1686739500@herz-eigen.de
SUMMARY:WICHTELWITZ UND RIESENMUT
DESCRIPTION:
URL:https://herz-eigen.de/event/wichtelwitz-und-riesenmut-40/
LOCATION:Gemeindehalle Willaringen\, Willaringen 18\, Rickenbach\, 79736
END:VEVENT
BEGIN:VEVENT
DTSTART;TZID=UTC:20230615T100000
DTEND;TZID=UTC:20230615T104500
DTSTAMP:20260424T051744
CREATED:20221008T151203Z
LAST-MODIFIED:20221008T151203Z
UID:2926-1686823200-1686825900@herz-eigen.de
SUMMARY:WICHTELWITZ UND RIESENMUT
DESCRIPTION:
URL:https://herz-eigen.de/event/wichtelwitz-und-riesenmut-39/
LOCATION:Gemeindehalle Willaringen\, Willaringen 18\, Rickenbach\, 79736
END:VEVENT
BEGIN:VEVENT
DTSTART;TZID=UTC:20230616T100000
DTEND;TZID=UTC:20230616T111000
DTSTAMP:20260424T051744
CREATED:20221112T144047Z
LAST-MODIFIED:20221112T144047Z
UID:2966-1686909600-1686913800@herz-eigen.de
SUMMARY:JIM KNOPF UND LUKAS\, DER LOKOMOTIVFÜHRER
DESCRIPTION:
URL:https://herz-eigen.de/event/jim-knopf-und-lukas-der-lokomotivfuehrer-161/
LOCATION:Halle 12 Laufenburg\, Dr.Rudolf-Eberle-Str. 12\, Laufenburg\, 79725
END:VEVENT
BEGIN:VEVENT
DTSTART;TZID=UTC:20230616T143000
DTEND;TZID=UTC:20230616T154000
DTSTAMP:20260424T051744
CREATED:20221112T144229Z
LAST-MODIFIED:20221112T144313Z
UID:2970-1686925800-1686930000@herz-eigen.de
SUMMARY:JIM KNOPF UND LUKAS\, DER LOKOMOTIVFÜHRER
DESCRIPTION:
URL:https://herz-eigen.de/event/jim-knopf-und-lukas-der-lokomotivfuehrer-162/
LOCATION:Halle 12 Laufenburg\, Dr.Rudolf-Eberle-Str. 12\, Laufenburg\, 79725
END:VEVENT
BEGIN:VEVENT
DTSTART;TZID=UTC:20230618T160000
DTEND;TZID=UTC:20230618T170000
DTSTAMP:20260424T051744
CREATED:20230304T141739Z
LAST-MODIFIED:20230617T122446Z
UID:3066-1687104000-1687107600@herz-eigen.de
SUMMARY:DER BÄR\, DER NICHT DA WAR (fällt aus)
DESCRIPTION:
URL:https://herz-eigen.de/event/der-baer-der-nicht-da-war-4/
LOCATION:Theater Hammerschmiede\, Hammerwasen 1\, Rottenburg am Neckar\, 72108 
END:VEVENT
END:VCALENDAR