BEGIN:VCALENDAR
VERSION:2.0
PRODID:-//herz-eigen.de - ECPv6.15.19//NONSGML v1.0//EN
CALSCALE:GREGORIAN
METHOD:PUBLISH
X-WR-CALNAME:herz-eigen.de
X-ORIGINAL-URL:https://herz-eigen.de
X-WR-CALDESC:Veranstaltungen für herz-eigen.de
REFRESH-INTERVAL;VALUE=DURATION:PT1H
X-Robots-Tag:noindex
X-PUBLISHED-TTL:PT1H
BEGIN:VTIMEZONE
TZID:UTC
BEGIN:STANDARD
TZOFFSETFROM:+0000
TZOFFSETTO:+0000
TZNAME:UTC
DTSTART:20220101T000000
END:STANDARD
END:VTIMEZONE
BEGIN:VEVENT
DTSTART;TZID=UTC:20230508T150000
DTEND;TZID=UTC:20230508T160000
DTSTAMP:20260424T063922
CREATED:20230304T143108Z
LAST-MODIFIED:20230304T143108Z
UID:3073-1683558000-1683561600@herz-eigen.de
SUMMARY:DER BÄR\, DER NICHT DA WAR
DESCRIPTION:
URL:https://herz-eigen.de/event/der-baer-der-nicht-da-war/
LOCATION:Jugendhaus Balingen\, Hindenburgstr. 46\, Balingen\, 72336
END:VEVENT
BEGIN:VEVENT
DTSTART;TZID=UTC:20230513T160000
DTEND;TZID=UTC:20230513T170000
DTSTAMP:20260424T063922
CREATED:20230304T142040Z
LAST-MODIFIED:20230304T142040Z
UID:3068-1683993600-1683997200@herz-eigen.de
SUMMARY:DER BÄR\, DER NICHT DA WAR
DESCRIPTION:
URL:https://herz-eigen.de/event/der-baer-der-nicht-da-war-5/
LOCATION:Kinder- und Jugendtheater Alte Kelter\, Dorfstr. 40\, Pfäffingen\, 72119
END:VEVENT
BEGIN:VEVENT
DTSTART;TZID=UTC:20230521T150000
DTEND;TZID=UTC:20230521T161000
DTSTAMP:20260424T063922
CREATED:20221015T153629Z
LAST-MODIFIED:20221015T153629Z
UID:2937-1684681200-1684685400@herz-eigen.de
SUMMARY:JIM KNOPF UND LUKAS\, DER LOKOMOTIVFÜHRER
DESCRIPTION:
URL:https://herz-eigen.de/event/jim-knopf-und-lukas-der-lokomotivfuehrer-159/
LOCATION:Mauerwerk\, Hindenburgstr. 22\, Herrenberg\, 71083
END:VEVENT
END:VCALENDAR