BEGIN:VCALENDAR
VERSION:2.0
PRODID:-//herz-eigen.de - ECPv6.15.19//NONSGML v1.0//EN
CALSCALE:GREGORIAN
METHOD:PUBLISH
X-WR-CALNAME:herz-eigen.de
X-ORIGINAL-URL:https://herz-eigen.de
X-WR-CALDESC:Veranstaltungen für herz-eigen.de
REFRESH-INTERVAL;VALUE=DURATION:PT1H
X-Robots-Tag:noindex
X-PUBLISHED-TTL:PT1H
BEGIN:VTIMEZONE
TZID:UTC
BEGIN:STANDARD
TZOFFSETFROM:+0000
TZOFFSETTO:+0000
TZNAME:UTC
DTSTART:20190101T000000
END:STANDARD
END:VTIMEZONE
BEGIN:VEVENT
DTSTART;TZID=UTC:20200505T160000
DTEND;TZID=UTC:20200505T171000
DTSTAMP:20260422T011640
CREATED:20191107T071749Z
LAST-MODIFIED:20200417T130527Z
UID:2057-1588694400-1588698600@herz-eigen.de
SUMMARY:JIM KNOPF UND LUKAS\, DER LOKOMOTIVFÜHRER      (fällt aus)
DESCRIPTION:
URL:https://herz-eigen.de/event/jim-knopf-und-lukas-der-lokomotivfuehrer-88/
END:VEVENT
BEGIN:VEVENT
DTSTART;TZID=UTC:20200506T100000
DTEND;TZID=UTC:20200506T110000
DTSTAMP:20260422T011640
CREATED:20190725T145015Z
LAST-MODIFIED:20200417T130640Z
UID:1924-1588759200-1588762800@herz-eigen.de
SUMMARY:DAS TRAUMFRESSERCHEN   (fällt aus)
DESCRIPTION:
URL:https://herz-eigen.de/event/das-traumfresserchen-52/
LOCATION:Bürgerhaus Zeppelinheim\, Kapitän-Lehmann-Str. 2\, Neu-Isenburg\, 63263
END:VEVENT
BEGIN:VEVENT
DTSTART;TZID=UTC:20200507T100000
DTEND;TZID=UTC:20200507T111000
DTSTAMP:20260422T011640
CREATED:20190707T132049Z
LAST-MODIFIED:20200417T130752Z
UID:1826-1588845600-1588849800@herz-eigen.de
SUMMARY:JIM KNOPF UND LUKAS\, DER LOKOMOTIVFÜHRER   (fällt aus)
DESCRIPTION:
URL:https://herz-eigen.de/event/jim-knopf-und-lukas-der-lokomotivfuehrer-72/
LOCATION:Stadthalle Walldorf\, Waldstr. 100\, Mörfelden-Walldorf\, 64546
END:VEVENT
BEGIN:VEVENT
DTSTART;TZID=UTC:20200508T160000
DTEND;TZID=UTC:20200508T170000
DTSTAMP:20260422T011640
CREATED:20190707T140011Z
LAST-MODIFIED:20200417T130928Z
UID:1830-1588953600-1588957200@herz-eigen.de
SUMMARY:DAS TRAUMFRESSERCHEN   (fällt aus)
DESCRIPTION:
URL:https://herz-eigen.de/event/das-traumfresserchen-51/
LOCATION:Stadtbibliothek Gießen\, Berliner Platz 1\, Gießen\, 35390
END:VEVENT
BEGIN:VEVENT
DTSTART;TZID=UTC:20200509T153000
DTEND;TZID=UTC:20200509T163000
DTSTAMP:20260422T011640
CREATED:20190915T185452Z
LAST-MODIFIED:20200417T131006Z
UID:1972-1589038200-1589041800@herz-eigen.de
SUMMARY:DAS KLEINE LUMPENKASPERLE   (fällt aus)
DESCRIPTION:
URL:https://herz-eigen.de/event/das-kleine-lumpenkasperle-84/
LOCATION:Bürgersaal Eppstein\, Rossertstr.21\, Eppstein\, 65817
END:VEVENT
BEGIN:VEVENT
DTSTART;TZID=UTC:20200510T080000
DTEND;TZID=UTC:20200510T170000
DTSTAMP:20260422T011640
CREATED:20200510T071836Z
LAST-MODIFIED:20200510T071836Z
UID:2176-1589097600-1589130000@herz-eigen.de
SUMMARY:Jim Knopf
DESCRIPTION:Gneisenaustrasse 27 \n16:00
URL:https://herz-eigen.de/event/jim-knopf/
END:VEVENT
BEGIN:VEVENT
DTSTART;TZID=UTC:20200510T110000
DTEND;TZID=UTC:20200510T121000
DTSTAMP:20260422T011640
CREATED:20190725T144419Z
LAST-MODIFIED:20200417T131052Z
UID:1921-1589108400-1589112600@herz-eigen.de
SUMMARY:JIM KNOPF UND LUKAS\,  DER LOKOMOTIVFÜHRER    (fällt aus)
DESCRIPTION:
URL:https://herz-eigen.de/event/jim-knopf-und-lukas-der-lokomotivfuehrer-74/
LOCATION:„Achterbahn“-Burg-Lichtspiele\, Darmstädter Landstr. 62\, Ginsheim-Gustavsburg\, 65462
END:VEVENT
BEGIN:VEVENT
DTSTART;TZID=UTC:20200511T100000
DTEND;TZID=UTC:20200511T111000
DTSTAMP:20260422T011640
CREATED:20191003T175602Z
LAST-MODIFIED:20200417T131217Z
UID:1991-1589191200-1589195400@herz-eigen.de
SUMMARY:JIM KNOPF UND LUKAS\, DER LOKOMOTIVFÜHRER    (fällt aus)
DESCRIPTION:
URL:https://herz-eigen.de/event/jim-knopf-und-lukas-der-lokomotivfuehrer-82/
LOCATION:Michael-Ende-Schule\, Pestalozzistr. 3\, Bad Schönborn\, 76669
END:VEVENT
BEGIN:VEVENT
DTSTART;TZID=UTC:20200527T103000
DTEND;TZID=UTC:20200527T113000
DTSTAMP:20260422T011640
CREATED:20190912T061301Z
LAST-MODIFIED:20200519T092120Z
UID:1968-1590575400-1590579000@herz-eigen.de
SUMMARY:DAS TRAUMFRESSERCHEN  (fällt aus)
DESCRIPTION:
URL:https://herz-eigen.de/event/das-traumfresserchen-57/
LOCATION:KULTURKABINETT\, Kissingerstrasse 66a\, Stuttgart Bad Cannstatt  \, 70372\, Deutschland
END:VEVENT
END:VCALENDAR