BEGIN:VCALENDAR
VERSION:2.0
PRODID:-//herz-eigen.de - ECPv6.15.19//NONSGML v1.0//EN
CALSCALE:GREGORIAN
METHOD:PUBLISH
X-WR-CALNAME:herz-eigen.de
X-ORIGINAL-URL:https://herz-eigen.de
X-WR-CALDESC:Veranstaltungen für herz-eigen.de
REFRESH-INTERVAL;VALUE=DURATION:PT1H
X-Robots-Tag:noindex
X-PUBLISHED-TTL:PT1H
BEGIN:VTIMEZONE
TZID:UTC
BEGIN:STANDARD
TZOFFSETFROM:+0000
TZOFFSETTO:+0000
TZNAME:UTC
DTSTART:20190101T000000
END:STANDARD
END:VTIMEZONE
BEGIN:VEVENT
DTSTART;TZID=UTC:20200303T150000
DTEND;TZID=UTC:20200303T160000
DTSTAMP:20260423T105859
CREATED:20190412T072506Z
LAST-MODIFIED:20190412T072506Z
UID:1786-1583247600-1583251200@herz-eigen.de
SUMMARY:DAS KLEINE LUMPENKASPERLE
DESCRIPTION:
URL:https://herz-eigen.de/event/das-kleine-lumpenkasperle-71/
LOCATION:Festsaal der Illenau\, Illenauer Allee 77\,  Achern \, 77855
ORGANIZER;CN="Stadt Achern%2C Kulturamt":MAILTO:kultur@achern.de
END:VEVENT
BEGIN:VEVENT
DTSTART;TZID=UTC:20200303T170000
DTEND;TZID=UTC:20200303T180000
DTSTAMP:20260423T105859
CREATED:20190412T072647Z
LAST-MODIFIED:20190424T183415Z
UID:1787-1583254800-1583258400@herz-eigen.de
SUMMARY:WICHTELWITZ UND RIESENMUT
DESCRIPTION:
URL:https://herz-eigen.de/event/das-kleine-lumpenkasperle-72/
LOCATION:Festsaal der Illenau\, Illenauer Allee 77\,  Achern \, 77855
ORGANIZER;CN="Stadt Achern%2C Kulturamt":MAILTO:kultur@achern.de
END:VEVENT
BEGIN:VEVENT
DTSTART;TZID=UTC:20200304T143000
DTEND;TZID=UTC:20200304T143000
DTSTAMP:20260423T105859
CREATED:20190707T122754Z
LAST-MODIFIED:20200110T151426Z
UID:1822-1583332200-1583332200@herz-eigen.de
SUMMARY:DAS KLEINE LUMPENKASPERLE
DESCRIPTION:
URL:https://herz-eigen.de/event/das-kleine-lumpenkasperle-77/
LOCATION:Stadtbibliothek Tuttlingen\, Schulstr. 6\, Tuttlingen\, 78532
END:VEVENT
BEGIN:VEVENT
DTSTART;TZID=UTC:20200308T160000
DTEND;TZID=UTC:20200308T171000
DTSTAMP:20260423T105859
CREATED:20190512T071608Z
LAST-MODIFIED:20190512T071608Z
UID:1794-1583683200-1583687400@herz-eigen.de
SUMMARY:JIM KNOPF UND LUKAS\, DER LOKOMOTIVFÜHRER
DESCRIPTION:
URL:https://herz-eigen.de/event/jim-knopf-und-lukas-der-lokomotivfuehrer-63/
LOCATION:Bücherei BONDORF\, Hindenburgstr. 90\, Bondorf\, 71149
END:VEVENT
BEGIN:VEVENT
DTSTART;TZID=UTC:20200310T100000
DTEND;TZID=UTC:20200310T111000
DTSTAMP:20260423T105859
CREATED:20191030T074241Z
LAST-MODIFIED:20191030T074241Z
UID:2006-1583834400-1583838600@herz-eigen.de
SUMMARY:JIM KNOPF UND LUKAS\, DER LOKOMOTIVFÜHRER
DESCRIPTION:
URL:https://herz-eigen.de/event/jim-knopf-und-lukas-der-lokomotivfuehrer-85/
LOCATION:Göttenbach-Aula\, Auf der Bein 3\, Idar-Oberstein\, 55743
END:VEVENT
BEGIN:VEVENT
DTSTART;TZID=UTC:20200310T163000
DTEND;TZID=UTC:20200310T174000
DTSTAMP:20260423T105859
CREATED:20191030T074430Z
LAST-MODIFIED:20191030T074430Z
UID:2007-1583857800-1583862000@herz-eigen.de
SUMMARY:JIM KNOPF UND LUKAS\, DER LOKOMOTIVFRER
DESCRIPTION:
URL:https://herz-eigen.de/event/jim-knopf-und-lukas-der-lokomotivfrer/
LOCATION:Göttenbach-Aula\, Auf der Bein 3\, Idar-Oberstein\, 55743
END:VEVENT
BEGIN:VEVENT
DTSTART;TZID=UTC:20200319T150000
DTEND;TZID=UTC:20200319T160000
DTSTAMP:20260423T105859
CREATED:20191121T130915Z
LAST-MODIFIED:20200316T064727Z
UID:2077-1584630000-1584633600@herz-eigen.de
SUMMARY:DAS TRAUMFRESSERCHEN        (fällt aus)
DESCRIPTION:
URL:https://herz-eigen.de/event/das-traumfresserchen-62/
LOCATION:Stadtbücherei Weilheim a.Teck\, Im Winkel 4\, WEILHEIM a.d.Teck\, 73235
END:VEVENT
BEGIN:VEVENT
DTSTART;TZID=UTC:20200320T100000
DTEND;TZID=UTC:20200320T110000
DTSTAMP:20260423T105859
CREATED:20191124T064558Z
LAST-MODIFIED:20200319T135143Z
UID:2082-1584698400-1584702000@herz-eigen.de
SUMMARY:DAS KLEINE LUMPPENKASPERLE    (fällt aus)
DESCRIPTION:
URL:https://herz-eigen.de/event/das-kleine-lumppenkasperle/
LOCATION:Bibliothek Möglingen\, Hanfbachstr. 30\, MÖGLINGEN\, 71696
END:VEVENT
BEGIN:VEVENT
DTSTART;TZID=UTC:20200321T160000
DTEND;TZID=UTC:20200321T170000
DTSTAMP:20260423T105859
CREATED:20190620T131926Z
LAST-MODIFIED:20200316T083641Z
UID:1808-1584806400-1584810000@herz-eigen.de
SUMMARY:DAS TRAUMFRESSERCHEN   (fällt aus)
DESCRIPTION:
URL:https://herz-eigen.de/event/das-traumfresserchen-27/
LOCATION:Kulturhaus Caserne\, Fallenbrunnen 17\, Friedrichshafen\, 88045
END:VEVENT
BEGIN:VEVENT
DTSTART;TZID=UTC:20200322T150000
DTEND;TZID=UTC:20200322T161000
DTSTAMP:20260423T105859
CREATED:20190528T052957Z
LAST-MODIFIED:20200316T065418Z
UID:1801-1584889200-1584893400@herz-eigen.de
SUMMARY:JIM KNOPF UND LUKAS\, DER LOKOMOTIVFÜHRER  (fällt aus)
DESCRIPTION:
URL:https://herz-eigen.de/event/jim-knopf-und-lukas-der-lokomotivfuehrer-65/
LOCATION:Alte Kirche\, Fabrikstr. 1\, Wolpertswende-Mochenwangen\, 88284
END:VEVENT
BEGIN:VEVENT
DTSTART;TZID=UTC:20200324T143000
DTEND;TZID=UTC:20200324T154000
DTSTAMP:20260423T105859
CREATED:20190725T145654Z
LAST-MODIFIED:20200316T065604Z
UID:1927-1585060200-1585064400@herz-eigen.de
SUMMARY:JIM KNOPF UND LUKAS\, DER LOKOMOTIVFÜHRER  (fällt aus)
DESCRIPTION:
URL:https://herz-eigen.de/event/jim-knopf-und-lukas-der-lokomotivfuehrer-75/
LOCATION:Öffentl. Bücherei Trochtelfingen\, Markstr. 23\, Trochtelfingen\, 72818
END:VEVENT
BEGIN:VEVENT
DTSTART;TZID=UTC:20200326T160000
DTEND;TZID=UTC:20200326T170000
DTSTAMP:20260423T105859
CREATED:20191030T073955Z
LAST-MODIFIED:20200319T135335Z
UID:2005-1585238400-1585242000@herz-eigen.de
SUMMARY:WICHTELWITZ UND RIESENMUT   (fällt aus)
DESCRIPTION:
URL:https://herz-eigen.de/event/wichtelwitz-und-riesenmut-33/
LOCATION:Bücherei im alten Schulhaus\, Kirchplatz 6\, Bad Boll\, 73078
END:VEVENT
END:VCALENDAR