BEGIN:VCALENDAR
VERSION:2.0
PRODID:-//herz-eigen.de - ECPv6.15.19//NONSGML v1.0//EN
CALSCALE:GREGORIAN
METHOD:PUBLISH
X-WR-CALNAME:herz-eigen.de
X-ORIGINAL-URL:https://herz-eigen.de
X-WR-CALDESC:Veranstaltungen für herz-eigen.de
REFRESH-INTERVAL;VALUE=DURATION:PT1H
X-Robots-Tag:noindex
X-PUBLISHED-TTL:PT1H
BEGIN:VTIMEZONE
TZID:UTC
BEGIN:STANDARD
TZOFFSETFROM:+0000
TZOFFSETTO:+0000
TZNAME:UTC
DTSTART:20160101T000000
END:STANDARD
END:VTIMEZONE
BEGIN:VEVENT
DTSTART;TZID=UTC:20170927T090000
DTEND;TZID=UTC:20170927T102000
DTSTAMP:20260419T132235
CREATED:20170915T165914Z
LAST-MODIFIED:20170915T165914Z
UID:1035-1506502800-1506507600@herz-eigen.de
SUMMARY:JIM KNOPF UND LUKAS\, DER LOKOMOTIVFÜHRER (geschlossene Veranstaltung)
DESCRIPTION:
URL:https://herz-eigen.de/event/jim-knopf-und-lukas-der-lokomotivfuehrer-geschlossene-veranstaltung-4/
LOCATION:Parzival-Schule Aachen\, Aachen-und-Münchener-Allee 5 \, Aachen\, 52074
END:VEVENT
BEGIN:VEVENT
DTSTART;TZID=UTC:20170927T110000
DTEND;TZID=UTC:20170927T110000
DTSTAMP:20260419T132235
CREATED:20170915T170141Z
LAST-MODIFIED:20170915T170141Z
UID:1037-1506510000-1506510000@herz-eigen.de
SUMMARY:JIM KNOPF UND LUKAS \, DER LOKOMOTIVFÜHRER (geschlosssene Veranstaltung)
DESCRIPTION:
URL:https://herz-eigen.de/event/jim-knopf-und-lukas-der-lokomotivfuehrer-geschlosssene-veranstaltung/
LOCATION:Parzival-Schule Aachen\, Aachen-und-Münchener-Allee 5 \, Aachen\, 52074
END:VEVENT
END:VCALENDAR