BEGIN:VCALENDAR
VERSION:2.0
PRODID:-//herz-eigen.de - ECPv6.15.19//NONSGML v1.0//EN
CALSCALE:GREGORIAN
METHOD:PUBLISH
X-ORIGINAL-URL:https://herz-eigen.de
X-WR-CALDESC:Veranstaltungen für herz-eigen.de
REFRESH-INTERVAL;VALUE=DURATION:PT1H
X-Robots-Tag:noindex
X-PUBLISHED-TTL:PT1H
BEGIN:VTIMEZONE
TZID:UTC
BEGIN:STANDARD
TZOFFSETFROM:+0000
TZOFFSETTO:+0000
TZNAME:UTC
DTSTART:20160101T000000
END:STANDARD
END:VTIMEZONE
BEGIN:VEVENT
DTSTART;TZID=UTC:20170208T150000
DTEND;TZID=UTC:20170208T160000
DTSTAMP:20260422T150410
CREATED:20160915T153217Z
LAST-MODIFIED:20161031T081937Z
UID:527-1486566000-1486569600@herz-eigen.de
SUMMARY:DAS TRAUMFRESSERCHEN
DESCRIPTION:
URL:https://herz-eigen.de/event/das-traumfresserchen-4/
LOCATION:Jahnhalle\, Gerlingen\, Hasenbergstraße 14\, \, Gerlingen\, 70839 
END:VEVENT
BEGIN:VEVENT
DTSTART;TZID=UTC:20170209T110000
DTEND;TZID=UTC:20170209T110000
DTSTAMP:20260422T150410
CREATED:20161125T164026Z
LAST-MODIFIED:20161222T104503Z
UID:741-1486638000-1486638000@herz-eigen.de
SUMMARY:DAS TRAUMFRESSERCHEN  (Geschlossene Veranstaltung)
DESCRIPTION:
URL:https://herz-eigen.de/event/das-traumfresserchen-12/
LOCATION:Bürgerhaus Möglingen\, Brunnenstr. 11\, Möglingen\, 71696
END:VEVENT
BEGIN:VEVENT
DTSTART;TZID=UTC:20170215T103000
DTEND;TZID=UTC:20170215T113000
DTSTAMP:20260422T150410
CREATED:20160922T131859Z
LAST-MODIFIED:20160922T131859Z
UID:549-1487154600-1487158200@herz-eigen.de
SUMMARY:DAS TRAUMFRESSERCHEN
DESCRIPTION:
URL:https://herz-eigen.de/event/das-traumfresserchen-9/
LOCATION:KULTURKABINETT\, Kissingerstrasse 66a\, Stuttgart Bad Cannstatt  \, 70372\, Deutschland
END:VEVENT
BEGIN:VEVENT
DTSTART;TZID=UTC:20170223T104500
DTEND;TZID=UTC:20170223T233500
DTSTAMP:20260422T150410
CREATED:20161029T192028Z
LAST-MODIFIED:20161031T083201Z
UID:704-1487846700-1487892900@herz-eigen.de
SUMMARY:WICHTELWITZ UND RIESENMUT  (geschlossene Veranstaltung)
DESCRIPTION:
URL:https://herz-eigen.de/event/wichtelwitz-und-riesenmut-geschlossene-veranstaltung/
LOCATION:Bitz Kiga „Alte Schule“\, Bitz\, 72475
END:VEVENT
END:VCALENDAR