BEGIN:VCALENDAR
VERSION:2.0
PRODID:-//herz-eigen.de - ECPv6.15.19//NONSGML v1.0//EN
CALSCALE:GREGORIAN
METHOD:PUBLISH
X-ORIGINAL-URL:https://herz-eigen.de
X-WR-CALDESC:Veranstaltungen für herz-eigen.de
REFRESH-INTERVAL;VALUE=DURATION:PT1H
X-Robots-Tag:noindex
X-PUBLISHED-TTL:PT1H
BEGIN:VTIMEZONE
TZID:UTC
BEGIN:STANDARD
TZOFFSETFROM:+0000
TZOFFSETTO:+0000
TZNAME:UTC
DTSTART:20160101T000000
END:STANDARD
END:VTIMEZONE
BEGIN:VEVENT
DTSTART;TZID=UTC:20170113T103000
DTEND;TZID=UTC:20170113T103000
DTSTAMP:20260422T190834
CREATED:20161125T162823Z
LAST-MODIFIED:20161125T183547Z
UID:738-1484303400-1484303400@herz-eigen.de
SUMMARY:DAS KLEINE LUMPENKASPERLE   (geschlossene Veranstaltung)
DESCRIPTION:
URL:https://herz-eigen.de/event/das-kleine-lumpenkasperle-13/
LOCATION:Kiga St.Martin\, Johannes-Kepler-Str. 3\, Denkendorf\, 73770
END:VEVENT
BEGIN:VEVENT
DTSTART;TZID=UTC:20170115T150000
DTEND;TZID=UTC:20170115T160000
DTSTAMP:20260422T190834
CREATED:20160922T122034Z
LAST-MODIFIED:20160922T122634Z
UID:534-1484492400-1484496000@herz-eigen.de
SUMMARY:DAS TRAUMFRESSERCHEN
DESCRIPTION:
URL:https://herz-eigen.de/event/das-traumfresserchen-5/
LOCATION:ODEON\, Altes E-Werk\,  Mörikestraße 18\, 73033 Göppingen
END:VEVENT
BEGIN:VEVENT
DTSTART;TZID=UTC:20170118T104500
DTEND;TZID=UTC:20170118T114500
DTSTAMP:20260422T190834
CREATED:20161029T132501Z
LAST-MODIFIED:20161109T094427Z
UID:701-1484736300-1484739900@herz-eigen.de
SUMMARY:DAS TRAUMFRESSERCHEN   (geschlossene Veranstaltung)
DESCRIPTION:
URL:https://herz-eigen.de/event/das-traumfresserchen-geschlossene-veranstaltung/
LOCATION:Aula GMS Rangendingen Hirrlingen\, Heimgartenst. 10\, Rangendingen\, 72414
END:VEVENT
BEGIN:VEVENT
DTSTART;TZID=UTC:20170122T160000
DTEND;TZID=UTC:20170122T170000
DTSTAMP:20260422T190834
CREATED:20160922T122133Z
LAST-MODIFIED:20160922T122545Z
UID:536-1485100800-1485104400@herz-eigen.de
SUMMARY:WICHTELWITZ UND RIESENMUT
DESCRIPTION:
URL:https://herz-eigen.de/event/wichtelwitz-und-riesenmut-3/
LOCATION:THEATER TEO TIGER\, Herrenberger Str. 40\, Tübingen\, 72070
END:VEVENT
BEGIN:VEVENT
DTSTART;TZID=UTC:20170129T180000
DTEND;TZID=UTC:20170129T190000
DTSTAMP:20260422T190834
CREATED:20160915T073919Z
LAST-MODIFIED:20160915T073919Z
UID:523-1485712800-1485716400@herz-eigen.de
SUMMARY:DAS KLEINE LUMPENKASPERLE
DESCRIPTION:
URL:https://herz-eigen.de/event/das-kleine-lumpenkasperle-10/
LOCATION:Dorfgemeinschaft\, Tennental\, Ita-Wegman-Straße 7\, 75392 Deckenpfronn
END:VEVENT
END:VCALENDAR