BEGIN:VCALENDAR
VERSION:2.0
PRODID:-//herz-eigen.de - ECPv6.15.19//NONSGML v1.0//EN
CALSCALE:GREGORIAN
METHOD:PUBLISH
X-ORIGINAL-URL:https://herz-eigen.de
X-WR-CALDESC:Veranstaltungen für herz-eigen.de
REFRESH-INTERVAL;VALUE=DURATION:PT1H
X-Robots-Tag:noindex
X-PUBLISHED-TTL:PT1H
BEGIN:VTIMEZONE
TZID:UTC
BEGIN:STANDARD
TZOFFSETFROM:+0000
TZOFFSETTO:+0000
TZNAME:UTC
DTSTART:20260101T000000
END:STANDARD
END:VTIMEZONE
BEGIN:VEVENT
DTSTART;TZID=UTC:20270307T150000
DTEND;TZID=UTC:20270307T160000
DTSTAMP:20260425T102852
CREATED:20260312T150532Z
LAST-MODIFIED:20260312T150532Z
UID:4982-1804431600-1804435200@herz-eigen.de
SUMMARY:WIE KATER ZORBAS DER KLEINEN MÖWE DAS FLIEGEN BEIBRACHTE
DESCRIPTION:
URL:https://herz-eigen.de/event/wie-kater-zorbas-der-kleinen-moewe-das-fliegen-beibrachte-18/
LOCATION:Stadtbücherei Weikersheim\, Laudenbacherstr. 3\, Weikersheim\, 97990
END:VEVENT
END:VCALENDAR