BEGIN:VCALENDAR
VERSION:2.0
PRODID:-//herz-eigen.de - ECPv6.15.19//NONSGML v1.0//EN
CALSCALE:GREGORIAN
METHOD:PUBLISH
X-WR-CALNAME:herz-eigen.de
X-ORIGINAL-URL:https://herz-eigen.de
X-WR-CALDESC:Veranstaltungen für herz-eigen.de
REFRESH-INTERVAL;VALUE=DURATION:PT1H
X-Robots-Tag:noindex
X-PUBLISHED-TTL:PT1H
BEGIN:VTIMEZONE
TZID:UTC
BEGIN:STANDARD
TZOFFSETFROM:+0000
TZOFFSETTO:+0000
TZNAME:UTC
DTSTART:20260101T000000
END:STANDARD
END:VTIMEZONE
BEGIN:VEVENT
DTSTART;TZID=UTC:20270109T150000
DTEND;TZID=UTC:20270109T160000
DTSTAMP:20260425T005128
CREATED:20260330T133553Z
LAST-MODIFIED:20260330T133553Z
UID:4997-1799506800-1799510400@herz-eigen.de
SUMMARY:DAS KLEINE LUMPENKASPERLE
DESCRIPTION:
URL:https://herz-eigen.de/event/das-kleine-lumpenkasperle-186/
LOCATION:Schloß Gomaringen\, Schloßhof 1\, Gomaringen\, 72810
END:VEVENT
BEGIN:VEVENT
DTSTART;TZID=UTC:20270109T150000
DTEND;TZID=UTC:20270109T160000
DTSTAMP:20260425T005128
CREATED:20260404T141157Z
LAST-MODIFIED:20260404T141157Z
UID:4999-1799506800-1799510400@herz-eigen.de
SUMMARY:DAS KLEINE LUMPENKASPERLE
DESCRIPTION:
URL:https://herz-eigen.de/event/das-kleine-lumpenkasperle-187/
LOCATION:VHS Gomaringen\, Schlosshof 1\, Gomaringen\, 72810
END:VEVENT
END:VCALENDAR