BEGIN:VCALENDAR
VERSION:2.0
PRODID:-//herz-eigen.de - ECPv6.15.19//NONSGML v1.0//EN
CALSCALE:GREGORIAN
METHOD:PUBLISH
X-ORIGINAL-URL:https://herz-eigen.de
X-WR-CALDESC:Veranstaltungen für herz-eigen.de
REFRESH-INTERVAL;VALUE=DURATION:PT1H
X-Robots-Tag:noindex
X-PUBLISHED-TTL:PT1H
BEGIN:VTIMEZONE
TZID:UTC
BEGIN:STANDARD
TZOFFSETFROM:+0000
TZOFFSETTO:+0000
TZNAME:UTC
DTSTART:20250101T000000
END:STANDARD
END:VTIMEZONE
BEGIN:VEVENT
DTSTART;TZID=UTC:20261121T150000
DTEND;TZID=UTC:20261121T160000
DTSTAMP:20260424T214558
CREATED:20260105T094251Z
LAST-MODIFIED:20260105T094251Z
UID:4866-1795273200-1795276800@herz-eigen.de
SUMMARY:WIE KATER ZORBAS DER KLEINEN MÖWE DAS FLIEGEN BEIBRACHTE
DESCRIPTION:
URL:https://herz-eigen.de/event/wie-kater-zorbas-der-kleinen-moewe-das-fliegen-beibrachte-10/
LOCATION:4-Häuser-Projekt\, Raum unter Café Hafenblick\, Hechingerstr. 35\, Tübingen\, 72072
ORGANIZER;CN="Theater HERZeigen":MAILTO:post@herz-eigen.de
END:VEVENT
END:VCALENDAR