BEGIN:VCALENDAR
VERSION:2.0
PRODID:-//herz-eigen.de - ECPv6.15.19//NONSGML v1.0//EN
CALSCALE:GREGORIAN
METHOD:PUBLISH
X-ORIGINAL-URL:https://herz-eigen.de
X-WR-CALDESC:Veranstaltungen für herz-eigen.de
REFRESH-INTERVAL;VALUE=DURATION:PT1H
X-Robots-Tag:noindex
X-PUBLISHED-TTL:PT1H
BEGIN:VTIMEZONE
TZID:UTC
BEGIN:STANDARD
TZOFFSETFROM:+0000
TZOFFSETTO:+0000
TZNAME:UTC
DTSTART:20250101T000000
END:STANDARD
END:VTIMEZONE
BEGIN:VEVENT
DTSTART;TZID=UTC:20261120T150000
DTEND;TZID=UTC:20261120T160000
DTSTAMP:20260424T232445
CREATED:20251217T151334Z
LAST-MODIFIED:20251217T151334Z
UID:4813-1795186800-1795190400@herz-eigen.de
SUMMARY:WIE KATER ZORBAS DER KLEINEN MÖWE DAS FLIEGEN BEIBRACHTE
DESCRIPTION:
URL:https://herz-eigen.de/event/wie-kater-zorbas-der-kleinen-moewe-das-fliegen-beibrachte/
LOCATION:Jahnhalle\, Gerlingen\, Hasenbergstraße 14\, \, Gerlingen\, 70839 
END:VEVENT
END:VCALENDAR