BEGIN:VCALENDAR
VERSION:2.0
PRODID:-//herz-eigen.de - ECPv6.15.19//NONSGML v1.0//EN
CALSCALE:GREGORIAN
METHOD:PUBLISH
X-WR-CALNAME:herz-eigen.de
X-ORIGINAL-URL:https://herz-eigen.de
X-WR-CALDESC:Veranstaltungen für herz-eigen.de
REFRESH-INTERVAL;VALUE=DURATION:PT1H
X-Robots-Tag:noindex
X-PUBLISHED-TTL:PT1H
BEGIN:VTIMEZONE
TZID:UTC
BEGIN:STANDARD
TZOFFSETFROM:+0000
TZOFFSETTO:+0000
TZNAME:UTC
DTSTART:20250101T000000
END:STANDARD
END:VTIMEZONE
BEGIN:VEVENT
DTSTART;TZID=UTC:20261016T093000
DTEND;TZID=UTC:20261016T103000
DTSTAMP:20260424T201343
CREATED:20251007T115643Z
LAST-MODIFIED:20251007T115643Z
UID:4746-1792143000-1792146600@herz-eigen.de
SUMMARY:DAS KLEINE LUMPENKASPERLE
DESCRIPTION:
URL:https://herz-eigen.de/event/das-kleine-lumpenkasperle-175/
LOCATION:Bürgerhaus GRÖBENZELL\, Rathausstr. 1\, Gröbenzell\, 82194
END:VEVENT
BEGIN:VEVENT
DTSTART;TZID=UTC:20261016T150000
DTEND;TZID=UTC:20261016T160000
DTSTAMP:20260424T201343
CREATED:20251007T115820Z
LAST-MODIFIED:20251007T115820Z
UID:4748-1792162800-1792166400@herz-eigen.de
SUMMARY:DAS KLEINE LUMPENKASPERLE
DESCRIPTION:
URL:https://herz-eigen.de/event/das-kleine-lumpenkasperle-176/
LOCATION:Bürgerhaus GRÖBENZELL\, Rathausstr. 1\, Gröbenzell\, 82194
END:VEVENT
END:VCALENDAR