BEGIN:VCALENDAR
VERSION:2.0
PRODID:-//herz-eigen.de - ECPv6.15.19//NONSGML v1.0//EN
CALSCALE:GREGORIAN
METHOD:PUBLISH
X-ORIGINAL-URL:https://herz-eigen.de
X-WR-CALDESC:Veranstaltungen für herz-eigen.de
REFRESH-INTERVAL;VALUE=DURATION:PT1H
X-Robots-Tag:noindex
X-PUBLISHED-TTL:PT1H
BEGIN:VTIMEZONE
TZID:UTC
BEGIN:STANDARD
TZOFFSETFROM:+0000
TZOFFSETTO:+0000
TZNAME:UTC
DTSTART:20230101T000000
END:STANDARD
END:VTIMEZONE
BEGIN:VEVENT
DTSTART;TZID=UTC:20240416T103000
DTEND;TZID=UTC:20240416T112000
DTSTAMP:20260421T010344
CREATED:20231104T161919Z
LAST-MODIFIED:20231104T163104Z
UID:3605-1713263400-1713266400@herz-eigen.de
SUMMARY:WICHTELWITZ UND RIESENMUT (geschlossene Veranstaltung)
DESCRIPTION:
URL:https://herz-eigen.de/event/wichtelwitz-und-riesenmut-geschlossene-veranstaltung-8/
LOCATION:Freie Waldorfschule Tübingen\, Rotdornweg 30\, Tübingen\, 72076
END:VEVENT
END:VCALENDAR