BEGIN:VCALENDAR
VERSION:2.0
PRODID:-//herz-eigen.de - ECPv6.15.19//NONSGML v1.0//EN
CALSCALE:GREGORIAN
METHOD:PUBLISH
X-ORIGINAL-URL:https://herz-eigen.de
X-WR-CALDESC:Veranstaltungen für herz-eigen.de
REFRESH-INTERVAL;VALUE=DURATION:PT1H
X-Robots-Tag:noindex
X-PUBLISHED-TTL:PT1H
BEGIN:VTIMEZONE
TZID:UTC
BEGIN:STANDARD
TZOFFSETFROM:+0000
TZOFFSETTO:+0000
TZNAME:UTC
DTSTART:20220101T000000
END:STANDARD
END:VTIMEZONE
BEGIN:VEVENT
DTSTART;TZID=UTC:20231204T083000
DTEND;TZID=UTC:20231204T093000
DTSTAMP:20260423T184113
CREATED:20221209T160638Z
LAST-MODIFIED:20221209T160638Z
UID:3026-1701678600-1701682200@herz-eigen.de
SUMMARY:DAS TRAUMFRESSERCHEN
DESCRIPTION:
URL:https://herz-eigen.de/event/das-traumfresserchen-102/
LOCATION:Saalbau-Kino\, Wilhelmstr.\, Heppenheim\, 64646
END:VEVENT
BEGIN:VEVENT
DTSTART;TZID=UTC:20231204T103000
DTEND;TZID=UTC:20231204T113000
DTSTAMP:20260423T184113
CREATED:20221209T160805Z
LAST-MODIFIED:20221209T160805Z
UID:3028-1701685800-1701689400@herz-eigen.de
SUMMARY:DAS TRAUMFRESSERCHEN
DESCRIPTION:
URL:https://herz-eigen.de/event/das-traumfresserchen-103/
LOCATION:Saalbau-Kino\, Wilhelmstr.\, Heppenheim\, 64646
END:VEVENT
END:VCALENDAR