BEGIN:VCALENDAR
VERSION:2.0
PRODID:-//herz-eigen.de - ECPv6.15.19//NONSGML v1.0//EN
CALSCALE:GREGORIAN
METHOD:PUBLISH
X-WR-CALNAME:herz-eigen.de
X-ORIGINAL-URL:https://herz-eigen.de
X-WR-CALDESC:Veranstaltungen für herz-eigen.de
REFRESH-INTERVAL;VALUE=DURATION:PT1H
X-Robots-Tag:noindex
X-PUBLISHED-TTL:PT1H
BEGIN:VTIMEZONE
TZID:UTC
BEGIN:STANDARD
TZOFFSETFROM:+0000
TZOFFSETTO:+0000
TZNAME:UTC
DTSTART:20220101T000000
END:STANDARD
END:VTIMEZONE
BEGIN:VEVENT
DTSTART;TZID=UTC:20231117T160000
DTEND;TZID=UTC:20231117T170000
DTSTAMP:20260423T213909
CREATED:20230325T095846Z
LAST-MODIFIED:20230325T095846Z
UID:3096-1700236800-1700240400@herz-eigen.de
SUMMARY:JIM KNOPF UND LUKAS\, DER LOKOMOTIVFÜHRER
DESCRIPTION:
URL:https://herz-eigen.de/event/jim-knopf-und-lukas-der-lokomotivfuehrer-167/
LOCATION:Dorfgemeinschaft\, Tennental\, Ita-Wegman-Straße 7\, 75392 Deckenpfronn
END:VEVENT
END:VCALENDAR