BEGIN:VCALENDAR
VERSION:2.0
PRODID:-//herz-eigen.de - ECPv6.15.19//NONSGML v1.0//EN
CALSCALE:GREGORIAN
METHOD:PUBLISH
X-ORIGINAL-URL:https://herz-eigen.de
X-WR-CALDESC:Veranstaltungen für herz-eigen.de
REFRESH-INTERVAL;VALUE=DURATION:PT1H
X-Robots-Tag:noindex
X-PUBLISHED-TTL:PT1H
BEGIN:VTIMEZONE
TZID:UTC
BEGIN:STANDARD
TZOFFSETFROM:+0000
TZOFFSETTO:+0000
TZNAME:UTC
DTSTART:20220101T000000
END:STANDARD
END:VTIMEZONE
BEGIN:VEVENT
DTSTART;TZID=UTC:20231026T160000
DTEND;TZID=UTC:20231026T170000
DTSTAMP:20260424T005858
CREATED:20220328T061654Z
LAST-MODIFIED:20220328T061654Z
UID:2766-1698336000-1698339600@herz-eigen.de
SUMMARY:DAS TRAUMFRESSERCHEN
DESCRIPTION:
URL:https://herz-eigen.de/event/das-traumfresserchen-81/
LOCATION:Haus für Weiterbildung\,\, Rathausplatz 8\, Neubiberg\, 85579
END:VEVENT
END:VCALENDAR