BEGIN:VCALENDAR
VERSION:2.0
PRODID:-//herz-eigen.de - ECPv6.15.19//NONSGML v1.0//EN
CALSCALE:GREGORIAN
METHOD:PUBLISH
X-WR-CALNAME:herz-eigen.de
X-ORIGINAL-URL:https://herz-eigen.de
X-WR-CALDESC:Veranstaltungen für herz-eigen.de
REFRESH-INTERVAL;VALUE=DURATION:PT1H
X-Robots-Tag:noindex
X-PUBLISHED-TTL:PT1H
BEGIN:VTIMEZONE
TZID:UTC
BEGIN:STANDARD
TZOFFSETFROM:+0000
TZOFFSETTO:+0000
TZNAME:UTC
DTSTART:20220101T000000
END:STANDARD
END:VTIMEZONE
BEGIN:VEVENT
DTSTART;TZID=UTC:20231024T100000
DTEND;TZID=UTC:20231024T110000
DTSTAMP:20260424T005357
CREATED:20220409T124148Z
LAST-MODIFIED:20220621T154211Z
UID:2786-1698141600-1698145200@herz-eigen.de
SUMMARY:JIM KNOPF UND LUKAS\, DER LOKOMOTIVFÜHRER
DESCRIPTION:
URL:https://herz-eigen.de/event/jim-knopf-und-lukas-der-lokomotivfuehrer-147/
LOCATION:Bücherei Kaufering\, Albert-Schweitzer-Str. 4 a\, Kaufering\, 86916
END:VEVENT
BEGIN:VEVENT
DTSTART;TZID=UTC:20231024T114500
DTEND;TZID=UTC:20231024T124500
DTSTAMP:20260424T005357
CREATED:20220409T124322Z
LAST-MODIFIED:20220621T154250Z
UID:2788-1698147900-1698151500@herz-eigen.de
SUMMARY:JIM KNOPF UND LUKAS\, DER LOKOMOTIVFÜHRER
DESCRIPTION:
URL:https://herz-eigen.de/event/jim-knopf-und-lukas-der-lokomotivfuehrer-148/
LOCATION:Bücherei Kaufering\, Albert-Schweitzer-Str. 4 a\, Kaufering\, 86916
END:VEVENT
END:VCALENDAR