BEGIN:VCALENDAR
VERSION:2.0
PRODID:-//herz-eigen.de - ECPv6.15.19//NONSGML v1.0//EN
CALSCALE:GREGORIAN
METHOD:PUBLISH
X-WR-CALNAME:herz-eigen.de
X-ORIGINAL-URL:https://herz-eigen.de
X-WR-CALDESC:Veranstaltungen für herz-eigen.de
REFRESH-INTERVAL;VALUE=DURATION:PT1H
X-Robots-Tag:noindex
X-PUBLISHED-TTL:PT1H
BEGIN:VTIMEZONE
TZID:UTC
BEGIN:STANDARD
TZOFFSETFROM:+0000
TZOFFSETTO:+0000
TZNAME:UTC
DTSTART:20220101T000000
END:STANDARD
END:VTIMEZONE
BEGIN:VEVENT
DTSTART;TZID=UTC:20230922T100000
DTEND;TZID=UTC:20230922T110000
DTSTAMP:20260424T021230
CREATED:20230711T092040Z
LAST-MODIFIED:20230711T092040Z
UID:3419-1695376800-1695380400@herz-eigen.de
SUMMARY:DAS KLEINE LUMPENKASPERLE
DESCRIPTION:
URL:https://herz-eigen.de/event/das-kleine-lumpenkasperle-144/
LOCATION:Bibliothek Kostheim\, Winterstr. 20\, Mainz-Kostheim\, 55246
END:VEVENT
END:VCALENDAR