BEGIN:VCALENDAR
VERSION:2.0
PRODID:-//herz-eigen.de - ECPv6.15.19//NONSGML v1.0//EN
CALSCALE:GREGORIAN
METHOD:PUBLISH
X-ORIGINAL-URL:https://herz-eigen.de
X-WR-CALDESC:Veranstaltungen für herz-eigen.de
REFRESH-INTERVAL;VALUE=DURATION:PT1H
X-Robots-Tag:noindex
X-PUBLISHED-TTL:PT1H
BEGIN:VTIMEZONE
TZID:UTC
BEGIN:STANDARD
TZOFFSETFROM:+0000
TZOFFSETTO:+0000
TZNAME:UTC
DTSTART:20220101T000000
END:STANDARD
END:VTIMEZONE
BEGIN:VEVENT
DTSTART;TZID=UTC:20230920T100000
DTEND;TZID=UTC:20230920T110000
DTSTAMP:20260424T022004
CREATED:20230711T091056Z
LAST-MODIFIED:20230711T091056Z
UID:3410-1695204000-1695207600@herz-eigen.de
SUMMARY:DAS KLEINE LUMPENKASPERLE
DESCRIPTION:
URL:https://herz-eigen.de/event/das-kleine-lumpenkasperle-141/
LOCATION:Bibliothek Biebrich\, Rudolf-Dyckerhoffstr. 10\, Wiesbaden-Biebrich\, 65203
END:VEVENT
BEGIN:VEVENT
DTSTART;TZID=UTC:20230920T153000
DTEND;TZID=UTC:20230920T163000
DTSTAMP:20260424T022004
CREATED:20230711T091257Z
LAST-MODIFIED:20230711T091418Z
UID:3413-1695223800-1695227400@herz-eigen.de
SUMMARY:DAS KLEINE LUMPENKASPERLE
DESCRIPTION:
URL:https://herz-eigen.de/event/das-kleine-lumpenkasperle-142/
LOCATION:Bibliothek Bierstadt\, Biegerstr. 15\, Wiesbaden-Bierstadt\, 65191
END:VEVENT
END:VCALENDAR