BEGIN:VCALENDAR
VERSION:2.0
PRODID:-//herz-eigen.de - ECPv6.15.19//NONSGML v1.0//EN
CALSCALE:GREGORIAN
METHOD:PUBLISH
X-ORIGINAL-URL:https://herz-eigen.de
X-WR-CALDESC:Veranstaltungen für herz-eigen.de
REFRESH-INTERVAL;VALUE=DURATION:PT1H
X-Robots-Tag:noindex
X-PUBLISHED-TTL:PT1H
BEGIN:VTIMEZONE
TZID:UTC
BEGIN:STANDARD
TZOFFSETFROM:+0000
TZOFFSETTO:+0000
TZNAME:UTC
DTSTART:20220101T000000
END:STANDARD
END:VTIMEZONE
BEGIN:VEVENT
DTSTART;TZID=UTC:20230919T100000
DTEND;TZID=UTC:20230919T110000
DTSTAMP:20260424T022003
CREATED:20230707T141543Z
LAST-MODIFIED:20230707T141543Z
UID:3378-1695117600-1695121200@herz-eigen.de
SUMMARY:DAS KLEINE LUMPENKASPERLE
DESCRIPTION:
URL:https://herz-eigen.de/event/das-kleine-lumpenkasperle-136/
END:VEVENT
BEGIN:VEVENT
DTSTART;TZID=UTC:20230919T100000
DTEND;TZID=UTC:20230919T110000
DTSTAMP:20260424T022003
CREATED:20230711T090552Z
LAST-MODIFIED:20230711T090552Z
UID:3404-1695117600-1695121200@herz-eigen.de
SUMMARY:DAS KLEINE LUMPENKASPERLE
DESCRIPTION:
URL:https://herz-eigen.de/event/das-kleine-lumpenkasperle-139/
LOCATION:Bibliothek Kastel\, Zehnthofstr. 41\, Mainz-Kastel\, 55252
END:VEVENT
BEGIN:VEVENT
DTSTART;TZID=UTC:20230919T150000
DTEND;TZID=UTC:20230919T160000
DTSTAMP:20260424T022003
CREATED:20230711T090817Z
LAST-MODIFIED:20230711T090817Z
UID:3407-1695135600-1695139200@herz-eigen.de
SUMMARY:DAS KLEINE LUMPENKASPERLE
DESCRIPTION:
URL:https://herz-eigen.de/event/das-kleine-lumpenkasperle-140/
LOCATION:Bibliothek Freudenberg\, Otto-Reutterstr. 5\, Wiesbaden\, 65201
END:VEVENT
END:VCALENDAR