BEGIN:VCALENDAR
VERSION:2.0
PRODID:-//herz-eigen.de - ECPv6.15.19//NONSGML v1.0//EN
CALSCALE:GREGORIAN
METHOD:PUBLISH
X-WR-CALNAME:herz-eigen.de
X-ORIGINAL-URL:https://herz-eigen.de
X-WR-CALDESC:Veranstaltungen für herz-eigen.de
REFRESH-INTERVAL;VALUE=DURATION:PT1H
X-Robots-Tag:noindex
X-PUBLISHED-TTL:PT1H
BEGIN:VTIMEZONE
TZID:UTC
BEGIN:STANDARD
TZOFFSETFROM:+0000
TZOFFSETTO:+0000
TZNAME:UTC
DTSTART:20220101T000000
END:STANDARD
END:VTIMEZONE
BEGIN:VEVENT
DTSTART;TZID=UTC:20230916T143000
DTEND;TZID=UTC:20230916T154000
DTSTAMP:20260424T021352
CREATED:20221209T074030Z
LAST-MODIFIED:20221209T074030Z
UID:3014-1694874600-1694878800@herz-eigen.de
SUMMARY:JIM KNOPF UND LUKAS\, DER LOKOMOTIVFÜHRER
DESCRIPTION:
URL:https://herz-eigen.de/event/jim-knopf-und-lukas-der-lokomotivfuehrer-151/
LOCATION:Metropol-Theater\, Münsterstr.\, Vechta\, 49377
END:VEVENT
END:VCALENDAR