BEGIN:VCALENDAR
VERSION:2.0
PRODID:-//herz-eigen.de - ECPv6.15.19//NONSGML v1.0//EN
CALSCALE:GREGORIAN
METHOD:PUBLISH
X-ORIGINAL-URL:https://herz-eigen.de
X-WR-CALDESC:Veranstaltungen für herz-eigen.de
REFRESH-INTERVAL;VALUE=DURATION:PT1H
X-Robots-Tag:noindex
X-PUBLISHED-TTL:PT1H
BEGIN:VTIMEZONE
TZID:UTC
BEGIN:STANDARD
TZOFFSETFROM:+0000
TZOFFSETTO:+0000
TZNAME:UTC
DTSTART:20220101T000000
END:STANDARD
END:VTIMEZONE
BEGIN:VEVENT
DTSTART;TZID=UTC:20230618T160000
DTEND;TZID=UTC:20230618T170000
DTSTAMP:20260424T064055
CREATED:20230304T141739Z
LAST-MODIFIED:20230617T122446Z
UID:3066-1687104000-1687107600@herz-eigen.de
SUMMARY:DER BÄR\, DER NICHT DA WAR (fällt aus)
DESCRIPTION:
URL:https://herz-eigen.de/event/der-baer-der-nicht-da-war-4/
LOCATION:Theater Hammerschmiede\, Hammerwasen 1\, Rottenburg am Neckar\, 72108 
END:VEVENT
END:VCALENDAR