BEGIN:VCALENDAR
VERSION:2.0
PRODID:-//herz-eigen.de - ECPv6.15.19//NONSGML v1.0//EN
CALSCALE:GREGORIAN
METHOD:PUBLISH
X-ORIGINAL-URL:https://herz-eigen.de
X-WR-CALDESC:Veranstaltungen für herz-eigen.de
REFRESH-INTERVAL;VALUE=DURATION:PT1H
X-Robots-Tag:noindex
X-PUBLISHED-TTL:PT1H
BEGIN:VTIMEZONE
TZID:UTC
BEGIN:STANDARD
TZOFFSETFROM:+0000
TZOFFSETTO:+0000
TZNAME:UTC
DTSTART:20220101T000000
END:STANDARD
END:VTIMEZONE
BEGIN:VEVENT
DTSTART;TZID=UTC:20230401T160000
DTEND;TZID=UTC:20230401T170000
DTSTAMP:20260424T094349
CREATED:20220501T135345Z
LAST-MODIFIED:20220501T135345Z
UID:2815-1680364800-1680368400@herz-eigen.de
SUMMARY:DAS TRAUMFRESSERCHEN
DESCRIPTION:
URL:https://herz-eigen.de/event/das-traumfresserchen-86/
LOCATION:Vorburg Hardenberger Schloß\, Zum Hardenberger Schloß 1-3\, Velbert\, 42553
END:VEVENT
END:VCALENDAR