BEGIN:VCALENDAR
VERSION:2.0
PRODID:-//herz-eigen.de - ECPv6.15.19//NONSGML v1.0//EN
CALSCALE:GREGORIAN
METHOD:PUBLISH
X-WR-CALNAME:herz-eigen.de
X-ORIGINAL-URL:https://herz-eigen.de
X-WR-CALDESC:Veranstaltungen für herz-eigen.de
REFRESH-INTERVAL;VALUE=DURATION:PT1H
X-Robots-Tag:noindex
X-PUBLISHED-TTL:PT1H
BEGIN:VTIMEZONE
TZID:UTC
BEGIN:STANDARD
TZOFFSETFROM:+0000
TZOFFSETTO:+0000
TZNAME:UTC
DTSTART:20220101T000000
END:STANDARD
END:VTIMEZONE
BEGIN:VEVENT
DTSTART;TZID=UTC:20230318T150000
DTEND;TZID=UTC:20230318T160000
DTSTAMP:20260424T110502
CREATED:20220122T070508Z
LAST-MODIFIED:20220122T070508Z
UID:2704-1679151600-1679155200@herz-eigen.de
SUMMARY:DAS KLEINE LUMPENKASPERLE
DESCRIPTION:
URL:https://herz-eigen.de/event/das-kleine-lumpenkasperle-115/
LOCATION:ROTE SCHULE Cloppenburg\, Eschstr. 33\, Cloppenburg\, 49661
END:VEVENT
BEGIN:VEVENT
DTSTART;TZID=UTC:20230318T170000
DTEND;TZID=UTC:20230318T180000
DTSTAMP:20260424T110502
CREATED:20220122T070637Z
LAST-MODIFIED:20220122T070637Z
UID:2708-1679158800-1679162400@herz-eigen.de
SUMMARY:DAS KLEINE LUMPENKASPERLE
DESCRIPTION:
URL:https://herz-eigen.de/event/das-kleine-lumpenkasperle-116/
LOCATION:ROTE SCHULE Cloppenburg\, Eschstr. 33\, Cloppenburg\, 49661
END:VEVENT
END:VCALENDAR