BEGIN:VCALENDAR
VERSION:2.0
PRODID:-//herz-eigen.de - ECPv6.15.19//NONSGML v1.0//EN
CALSCALE:GREGORIAN
METHOD:PUBLISH
X-ORIGINAL-URL:https://herz-eigen.de
X-WR-CALDESC:Veranstaltungen für herz-eigen.de
REFRESH-INTERVAL;VALUE=DURATION:PT1H
X-Robots-Tag:noindex
X-PUBLISHED-TTL:PT1H
BEGIN:VTIMEZONE
TZID:UTC
BEGIN:STANDARD
TZOFFSETFROM:+0000
TZOFFSETTO:+0000
TZNAME:UTC
DTSTART:20220101T000000
END:STANDARD
END:VTIMEZONE
BEGIN:VEVENT
DTSTART;TZID=UTC:20230317T083000
DTEND;TZID=UTC:20230317T093000
DTSTAMP:20260424T110952
CREATED:20221008T094059Z
LAST-MODIFIED:20221008T094059Z
UID:2914-1679041800-1679045400@herz-eigen.de
SUMMARY:JIM KNOPF UND LUKAS\, DER LOKOMOTIVFÜHRER
DESCRIPTION:
URL:https://herz-eigen.de/event/jim-knopf-und-lukas-der-lokomotivfuehrer-155/
LOCATION:Frauenwaldschule\, Frauenwaldstr. 10\, Bad Nauheim\, 61231
END:VEVENT
BEGIN:VEVENT
DTSTART;TZID=UTC:20230317T103000
DTEND;TZID=UTC:20230317T113000
DTSTAMP:20260424T110952
CREATED:20221008T094232Z
LAST-MODIFIED:20221008T094232Z
UID:2918-1679049000-1679052600@herz-eigen.de
SUMMARY:JIM KNOPF UND LUKAS\, DER LOKOMOTIVFÜHRER
DESCRIPTION:
URL:https://herz-eigen.de/event/jim-knopf-und-lukas-der-lokomotivfuehrer-156/
LOCATION:Frauenwaldschule\, Frauenwaldstr. 10\, Bad Nauheim\, 61231
END:VEVENT
END:VCALENDAR