BEGIN:VCALENDAR
VERSION:2.0
PRODID:-//herz-eigen.de - ECPv6.15.19//NONSGML v1.0//EN
CALSCALE:GREGORIAN
METHOD:PUBLISH
X-WR-CALNAME:herz-eigen.de
X-ORIGINAL-URL:https://herz-eigen.de
X-WR-CALDESC:Veranstaltungen für herz-eigen.de
REFRESH-INTERVAL;VALUE=DURATION:PT1H
X-Robots-Tag:noindex
X-PUBLISHED-TTL:PT1H
BEGIN:VTIMEZONE
TZID:UTC
BEGIN:STANDARD
TZOFFSETFROM:+0000
TZOFFSETTO:+0000
TZNAME:UTC
DTSTART:20220101T000000
END:STANDARD
END:VTIMEZONE
BEGIN:VEVENT
DTSTART;TZID=UTC:20230316T100000
DTEND;TZID=UTC:20230316T110000
DTSTAMP:20260424T110539
CREATED:20221008T094711Z
LAST-MODIFIED:20221008T094711Z
UID:2920-1678960800-1678964400@herz-eigen.de
SUMMARY:JIM KNOPF UND LUKAS\, DER LOKOMOTIVFÜHRER
DESCRIPTION:
URL:https://herz-eigen.de/event/jim-knopf-und-lukas-der-lokomotivfuehrer-157/
LOCATION:Kulturherberge Gelnhausen\, Obermarkt 7\, Gelnhausen\, 63571
END:VEVENT
BEGIN:VEVENT
DTSTART;TZID=UTC:20230316T150000
DTEND;TZID=UTC:20230316T160000
DTSTAMP:20260424T110539
CREATED:20221008T094914Z
LAST-MODIFIED:20221008T094914Z
UID:2924-1678978800-1678982400@herz-eigen.de
SUMMARY:JIM KNOPF UND LUKAS\, DER LOKOMOTIVFÜHRER
DESCRIPTION:
URL:https://herz-eigen.de/event/jim-knopf-und-lukas-der-lokomotivfuehrer-158/
LOCATION:Kulturherberge Gelnhausen\, Obermarkt 7\, Gelnhausen\, 63571
END:VEVENT
END:VCALENDAR