BEGIN:VCALENDAR
VERSION:2.0
PRODID:-//herz-eigen.de - ECPv6.15.19//NONSGML v1.0//EN
CALSCALE:GREGORIAN
METHOD:PUBLISH
X-WR-CALNAME:herz-eigen.de
X-ORIGINAL-URL:https://herz-eigen.de
X-WR-CALDESC:Veranstaltungen für herz-eigen.de
REFRESH-INTERVAL;VALUE=DURATION:PT1H
X-Robots-Tag:noindex
X-PUBLISHED-TTL:PT1H
BEGIN:VTIMEZONE
TZID:UTC
BEGIN:STANDARD
TZOFFSETFROM:+0000
TZOFFSETTO:+0000
TZNAME:UTC
DTSTART:20220101T000000
END:STANDARD
END:VTIMEZONE
BEGIN:VEVENT
DTSTART;TZID=UTC:20230309T084000
DTEND;TZID=UTC:20230309T094000
DTSTAMP:20260424T110638
CREATED:20221121T063412Z
LAST-MODIFIED:20221121T063412Z
UID:2987-1678351200-1678354800@herz-eigen.de
SUMMARY:DAS TRAUMFRESSERCHEN (geschlossene Veranstaltung)
DESCRIPTION:
URL:https://herz-eigen.de/event/das-traumfresserchen-geschlossene-veranstaltung-22/
LOCATION:Weihermattenschule\, Dürerstr. 16\, Bad Säckingen\, 79713
END:VEVENT
BEGIN:VEVENT
DTSTART;TZID=UTC:20230309T104000
DTEND;TZID=UTC:20230309T114000
DTSTAMP:20260424T110638
CREATED:20221121T063554Z
LAST-MODIFIED:20221121T063554Z
UID:2991-1678358400-1678362000@herz-eigen.de
SUMMARY:DAS TRAUMFRESSERCHEN
DESCRIPTION:
URL:https://herz-eigen.de/event/das-traumfresserchen-94/
LOCATION:Weihermattenschule\, Dürerstr. 16\, Bad Säckingen\, 79713
END:VEVENT
END:VCALENDAR