BEGIN:VCALENDAR
VERSION:2.0
PRODID:-//herz-eigen.de - ECPv6.15.19//NONSGML v1.0//EN
CALSCALE:GREGORIAN
METHOD:PUBLISH
X-ORIGINAL-URL:https://herz-eigen.de
X-WR-CALDESC:Veranstaltungen für herz-eigen.de
REFRESH-INTERVAL;VALUE=DURATION:PT1H
X-Robots-Tag:noindex
X-PUBLISHED-TTL:PT1H
BEGIN:VTIMEZONE
TZID:UTC
BEGIN:STANDARD
TZOFFSETFROM:+0000
TZOFFSETTO:+0000
TZNAME:UTC
DTSTART:20190101T000000
END:STANDARD
END:VTIMEZONE
BEGIN:VEVENT
DTSTART;TZID=UTC:20200615T091500
DTEND;TZID=UTC:20200615T102500
DTSTAMP:20260422T083745
CREATED:20191120T085607Z
LAST-MODIFIED:20200517T122517Z
UID:2069-1592212500-1592216700@herz-eigen.de
SUMMARY:JIM KNOPF UND LUKAS\, DER LOKOMOTIVFÜHRER  (fällt aus)
DESCRIPTION:
URL:https://herz-eigen.de/event/jim-knopf-und-lukas-der-lokomotivfuehrer-91/
LOCATION:Haus des Gastes Gladenbach\, Karl-Waldschmidt-Str. 5\, Gladenbach\, 35075
END:VEVENT
BEGIN:VEVENT
DTSTART;TZID=UTC:20200615T111500
DTEND;TZID=UTC:20200615T122500
DTSTAMP:20260422T083745
CREATED:20191120T090403Z
LAST-MODIFIED:20200517T122739Z
UID:2074-1592219700-1592223900@herz-eigen.de
SUMMARY:JIM KNOPF UND LUKAS\, DER LOKOMOTIVFÜHRER (fällt aus)
DESCRIPTION:
URL:https://herz-eigen.de/event/jim-knopf-und-lukas-der-lokomotivfuehrer-92/
LOCATION:Haus des Gastes Gladenbach\, Karl-Waldschmidt-Str. 5\, Gladenbach\, 35075
END:VEVENT
END:VCALENDAR