BEGIN:VCALENDAR
VERSION:2.0
PRODID:-//herz-eigen.de - ECPv6.15.19//NONSGML v1.0//EN
CALSCALE:GREGORIAN
METHOD:PUBLISH
X-WR-CALNAME:herz-eigen.de
X-ORIGINAL-URL:https://herz-eigen.de
X-WR-CALDESC:Veranstaltungen für herz-eigen.de
REFRESH-INTERVAL;VALUE=DURATION:PT1H
X-Robots-Tag:noindex
X-PUBLISHED-TTL:PT1H
BEGIN:VTIMEZONE
TZID:UTC
BEGIN:STANDARD
TZOFFSETFROM:+0000
TZOFFSETTO:+0000
TZNAME:UTC
DTSTART:20190101T000000
END:STANDARD
END:VTIMEZONE
BEGIN:VEVENT
DTSTART;TZID=UTC:20200219T150000
DTEND;TZID=UTC:20200219T160000
DTSTAMP:20260423T150725
CREATED:20191219T081533Z
LAST-MODIFIED:20191219T081533Z
UID:2094-1582124400-1582128000@herz-eigen.de
SUMMARY:WICHTELWITZ UND RIESENMUT
DESCRIPTION:
URL:https://herz-eigen.de/event/wichtelwitz-und-riesenmut-35/
LOCATION:Jahnhalle\, Gerlingen\, Hasenbergstraße 14\, \, Gerlingen\, 70839 
END:VEVENT
END:VCALENDAR