BEGIN:VCALENDAR
VERSION:2.0
PRODID:-//herz-eigen.de - ECPv6.15.19//NONSGML v1.0//EN
CALSCALE:GREGORIAN
METHOD:PUBLISH
X-ORIGINAL-URL:https://herz-eigen.de
X-WR-CALDESC:Veranstaltungen für herz-eigen.de
REFRESH-INTERVAL;VALUE=DURATION:PT1H
X-Robots-Tag:noindex
X-PUBLISHED-TTL:PT1H
BEGIN:VTIMEZONE
TZID:UTC
BEGIN:STANDARD
TZOFFSETFROM:+0000
TZOFFSETTO:+0000
TZNAME:UTC
DTSTART:20190101T000000
END:STANDARD
END:VTIMEZONE
BEGIN:VEVENT
DTSTART;TZID=UTC:20200116T100000
DTEND;TZID=UTC:20200116T110000
DTSTAMP:20260421T141128
CREATED:20190903T093757Z
LAST-MODIFIED:20190903T093757Z
UID:1958-1579168800-1579172400@herz-eigen.de
SUMMARY:DAS KLEINE LUMPENKASPERLE
DESCRIPTION:
URL:https://herz-eigen.de/event/das-kleine-lumpenkasperle-80/
LOCATION:KUF im Südpunkt\, Pillenreutherstr. 147\, Nürnberg\, 90459
END:VEVENT
BEGIN:VEVENT
DTSTART;TZID=UTC:20200116T150000
DTEND;TZID=UTC:20200116T160000
DTSTAMP:20260421T141128
CREATED:20190903T094246Z
LAST-MODIFIED:20190903T094246Z
UID:1960-1579186800-1579190400@herz-eigen.de
SUMMARY:DAS KLEINE LUMPENKASPERLE
DESCRIPTION:
URL:https://herz-eigen.de/event/das-kleine-lumpenkasperle-81/
LOCATION:Ev. Gemeindesaal\, Gumbinnerstr. 12\, Nürnberg\, 90411
END:VEVENT
END:VCALENDAR