BEGIN:VCALENDAR
VERSION:2.0
PRODID:-//herz-eigen.de - ECPv6.15.19//NONSGML v1.0//EN
CALSCALE:GREGORIAN
METHOD:PUBLISH
X-ORIGINAL-URL:https://herz-eigen.de
X-WR-CALDESC:Veranstaltungen für herz-eigen.de
REFRESH-INTERVAL;VALUE=DURATION:PT1H
X-Robots-Tag:noindex
X-PUBLISHED-TTL:PT1H
BEGIN:VTIMEZONE
TZID:UTC
BEGIN:STANDARD
TZOFFSETFROM:+0000
TZOFFSETTO:+0000
TZNAME:UTC
DTSTART:20190101T000000
END:STANDARD
END:VTIMEZONE
BEGIN:VEVENT
DTSTART;TZID=UTC:20200115T100000
DTEND;TZID=UTC:20200115T110000
DTSTAMP:20260423T142841
CREATED:20190903T093541Z
LAST-MODIFIED:20190903T093541Z
UID:1956-1579082400-1579086000@herz-eigen.de
SUMMARY:DAS KLEINE LUMPENKASPERLE
DESCRIPTION:
URL:https://herz-eigen.de/event/das-kleine-lumpenkasperle-79/
LOCATION:Abenteuerplatz Amselstr.\, Amselstr. 5\, Nürnberg\, 90439
END:VEVENT
END:VCALENDAR