BEGIN:VCALENDAR
VERSION:2.0
PRODID:-//herz-eigen.de - ECPv6.15.19//NONSGML v1.0//EN
CALSCALE:GREGORIAN
METHOD:PUBLISH
X-WR-CALNAME:herz-eigen.de
X-ORIGINAL-URL:https://herz-eigen.de
X-WR-CALDESC:Veranstaltungen für herz-eigen.de
REFRESH-INTERVAL;VALUE=DURATION:PT1H
X-Robots-Tag:noindex
X-PUBLISHED-TTL:PT1H
BEGIN:VTIMEZONE
TZID:UTC
BEGIN:STANDARD
TZOFFSETFROM:+0000
TZOFFSETTO:+0000
TZNAME:UTC
DTSTART:20160101T000000
END:STANDARD
END:VTIMEZONE
BEGIN:VEVENT
DTSTART;TZID=UTC:20171122T103000
DTEND;TZID=UTC:20171122T113000
DTSTAMP:20260419T131013
CREATED:20161202T215405Z
LAST-MODIFIED:20161202T215405Z
UID:774-1511346600-1511350200@herz-eigen.de
SUMMARY:JIM KNOPF UND LUKAS\, DER LOKOMOTIVFÜHRER
DESCRIPTION:
URL:https://herz-eigen.de/event/jim-knopf-und-lukas-der-lokomotivfuehrer-4/
LOCATION:KULTURKABINETT\, Kissingerstrasse 66a\, Stuttgart Bad Cannstatt  \, 70372\, Deutschland
END:VEVENT
BEGIN:VEVENT
DTSTART;TZID=UTC:20171122T163000
DTEND;TZID=UTC:20171122T173000
DTSTAMP:20260419T131013
CREATED:20161202T215836Z
LAST-MODIFIED:20161202T215836Z
UID:776-1511368200-1511371800@herz-eigen.de
SUMMARY:JIM KNOPF UND LUKAS\, DER LOKOMOTIVFÜHRER
DESCRIPTION:
URL:https://herz-eigen.de/event/jim-knopf-und-lukas-der-lokomotivfuehrer-5/
LOCATION:KULTURKABINETT\, Kissingerstrasse 66a\, Stuttgart Bad Cannstatt  \, 70372\, Deutschland
END:VEVENT
END:VCALENDAR