BEGIN:VCALENDAR
VERSION:2.0
PRODID:-//herz-eigen.de - ECPv6.15.19//NONSGML v1.0//EN
CALSCALE:GREGORIAN
METHOD:PUBLISH
X-WR-CALNAME:herz-eigen.de
X-ORIGINAL-URL:https://herz-eigen.de
X-WR-CALDESC:Veranstaltungen für herz-eigen.de
REFRESH-INTERVAL;VALUE=DURATION:PT1H
X-Robots-Tag:noindex
X-PUBLISHED-TTL:PT1H
BEGIN:VTIMEZONE
TZID:UTC
BEGIN:STANDARD
TZOFFSETFROM:+0000
TZOFFSETTO:+0000
TZNAME:UTC
DTSTART:20160101T000000
END:STANDARD
END:VTIMEZONE
BEGIN:VEVENT
DTSTART;TZID=UTC:20170724T090000
DTEND;TZID=UTC:20170724T101000
DTSTAMP:20260419T224644
CREATED:20170529T083839Z
LAST-MODIFIED:20170706T063716Z
UID:975-1500886800-1500891000@herz-eigen.de
SUMMARY:JIM KNOPF UND LUKAS\, DER LOKOMOTIVFÜHRER  (geschlossene Veranstaltung)
DESCRIPTION:
URL:https://herz-eigen.de/event/jim-knopf-und-lukas-der-lokomotivfuehrer-geschlossene-veranstaltung-3/
LOCATION:Theater Alte Kelter\, Paulinenstr. 33\, Winnenden\, 71364
END:VEVENT
BEGIN:VEVENT
DTSTART;TZID=UTC:20170724T110000
DTEND;TZID=UTC:20170724T110000
DTSTAMP:20260419T224644
CREATED:20170529T083533Z
LAST-MODIFIED:20170706T063902Z
UID:972-1500894000-1500894000@herz-eigen.de
SUMMARY:JIM KNOPF UND LUKAS\, DER LOKOMOTIVFÜHRER  (geschlossene Veranstaltung)
DESCRIPTION:
URL:https://herz-eigen.de/event/jim-knopf-und-lukas-der-lokomotivfuehrer-geschlossene-veranstaltung-2/
LOCATION:Theater Alte Kelter\, Paulinenstr. 33\, Winnenden\, 71364
END:VEVENT
END:VCALENDAR