BEGIN:VCALENDAR
VERSION:2.0
PRODID:-//herz-eigen.de - ECPv6.15.19//NONSGML v1.0//EN
CALSCALE:GREGORIAN
METHOD:PUBLISH
X-WR-CALNAME:herz-eigen.de
X-ORIGINAL-URL:https://herz-eigen.de
X-WR-CALDESC:Veranstaltungen für herz-eigen.de
REFRESH-INTERVAL;VALUE=DURATION:PT1H
X-Robots-Tag:noindex
X-PUBLISHED-TTL:PT1H
BEGIN:VTIMEZONE
TZID:UTC
BEGIN:STANDARD
TZOFFSETFROM:+0000
TZOFFSETTO:+0000
TZNAME:UTC
DTSTART:20160101T000000
END:STANDARD
END:VTIMEZONE
BEGIN:VEVENT
DTSTART;TZID=UTC:20170522T091500
DTEND;TZID=UTC:20170522T101500
DTSTAMP:20260420T054526
CREATED:20170324T160700Z
LAST-MODIFIED:20170324T160700Z
UID:848-1495444500-1495448100@herz-eigen.de
SUMMARY:WICHTELWITZ  UND RIESENMUT  (geschlossene Veranstaltung)
DESCRIPTION:
URL:https://herz-eigen.de/event/wichtelwitz-und-riesenmut-geschlossene-veranstaltung-4/
LOCATION:Stadtbücherei Filderstadt\, Volmarstr. 16\, FILDERSTADT\, 70794
END:VEVENT
BEGIN:VEVENT
DTSTART;TZID=UTC:20170522T104500
DTEND;TZID=UTC:20170522T114500
DTSTAMP:20260420T054526
CREATED:20170324T161744Z
LAST-MODIFIED:20170324T161744Z
UID:852-1495449900-1495453500@herz-eigen.de
SUMMARY:WICHTELWITZ UND RIESENMUT   (Geschlossene Veranstaltung)
DESCRIPTION:
URL:https://herz-eigen.de/event/wichtelwitz-und-riesenmut-geschlossene-veranstaltung-5/
LOCATION:Stadtbibliothek Filderstadt\, Volmarstr. 16\, FILDERSTADT\, 70794
END:VEVENT
END:VCALENDAR