BEGIN:VCALENDAR
VERSION:2.0
PRODID:-//herz-eigen.de - ECPv6.15.19//NONSGML v1.0//EN
CALSCALE:GREGORIAN
METHOD:PUBLISH
X-ORIGINAL-URL:https://herz-eigen.de
X-WR-CALDESC:Veranstaltungen für herz-eigen.de
REFRESH-INTERVAL;VALUE=DURATION:PT1H
X-Robots-Tag:noindex
X-PUBLISHED-TTL:PT1H
BEGIN:VTIMEZONE
TZID:UTC
BEGIN:STANDARD
TZOFFSETFROM:+0000
TZOFFSETTO:+0000
TZNAME:UTC
DTSTART:20160101T000000
END:STANDARD
END:VTIMEZONE
BEGIN:VEVENT
DTSTART;TZID=UTC:20170508T103000
DTEND;TZID=UTC:20170508T113000
DTSTAMP:20260420T055230
CREATED:20170304T101500Z
LAST-MODIFIED:20170304T101500Z
UID:841-1494239400-1494243000@herz-eigen.de
SUMMARY:WICHTELWITZ UND RIESENMUT
DESCRIPTION:
URL:https://herz-eigen.de/event/wichtelwitz-und-riesenmut-10/
LOCATION:Bibliothek Reutlingen-Orschel-Hagen\, Dresdnerplatz 4\, Reutlingen-Orschel-Hagen\, 72760
END:VEVENT
END:VCALENDAR