BEGIN:VCALENDAR
VERSION:2.0
PRODID:-//herz-eigen.de - ECPv6.15.19//NONSGML v1.0//EN
CALSCALE:GREGORIAN
METHOD:PUBLISH
X-ORIGINAL-URL:https://herz-eigen.de
X-WR-CALDESC:Veranstaltungen für herz-eigen.de
REFRESH-INTERVAL;VALUE=DURATION:PT1H
X-Robots-Tag:noindex
X-PUBLISHED-TTL:PT1H
BEGIN:VTIMEZONE
TZID:UTC
BEGIN:STANDARD
TZOFFSETFROM:+0000
TZOFFSETTO:+0000
TZNAME:UTC
DTSTART:20160101T000000
END:STANDARD
END:VTIMEZONE
BEGIN:VEVENT
DTSTART;TZID=UTC:20170406T103000
DTEND;TZID=UTC:20170406T112000
DTSTAMP:20260420T084809
CREATED:20161030T182556Z
LAST-MODIFIED:20161030T182556Z
UID:706-1491474600-1491477600@herz-eigen.de
SUMMARY:WICHTELWITZ UND RIESENMUT
DESCRIPTION:
URL:https://herz-eigen.de/event/wichtelwitz-und-riesenmut-4/
LOCATION:THEATER im SPITALHOF\, Klosterstr. 2\, Leonberg\, 71229
END:VEVENT
END:VCALENDAR