BEGIN:VCALENDAR
VERSION:2.0
PRODID:-//herz-eigen.de - ECPv6.15.19//NONSGML v1.0//EN
CALSCALE:GREGORIAN
METHOD:PUBLISH
X-ORIGINAL-URL:https://herz-eigen.de
X-WR-CALDESC:Veranstaltungen für herz-eigen.de
REFRESH-INTERVAL;VALUE=DURATION:PT1H
X-Robots-Tag:noindex
X-PUBLISHED-TTL:PT1H
BEGIN:VTIMEZONE
TZID:UTC
BEGIN:STANDARD
TZOFFSETFROM:+0000
TZOFFSETTO:+0000
TZNAME:UTC
DTSTART:20160101T000000
END:STANDARD
END:VTIMEZONE
BEGIN:VEVENT
DTSTART;TZID=UTC:20170115T150000
DTEND;TZID=UTC:20170115T160000
DTSTAMP:20260422T222920
CREATED:20160922T122034Z
LAST-MODIFIED:20160922T122634Z
UID:534-1484492400-1484496000@herz-eigen.de
SUMMARY:DAS TRAUMFRESSERCHEN
DESCRIPTION:
URL:https://herz-eigen.de/event/das-traumfresserchen-5/
LOCATION:ODEON\, Altes E-Werk\,  Mörikestraße 18\, 73033 Göppingen
END:VEVENT
END:VCALENDAR